BEGIN:VCALENDAR
VERSION:2.0
PRODID:-// - ECPv6.13.2.1//NONSGML v1.0//EN
CALSCALE:GREGORIAN
METHOD:PUBLISH
X-ORIGINAL-URL:https://tomsriverucc.org
X-WR-CALDESC:Events for 
REFRESH-INTERVAL;VALUE=DURATION:PT1H
X-Robots-Tag:noindex
X-PUBLISHED-TTL:PT1H
BEGIN:VTIMEZONE
TZID:America/New_York
BEGIN:DAYLIGHT
TZOFFSETFROM:-0500
TZOFFSETTO:-0400
TZNAME:EDT
DTSTART:20230312T070000
END:DAYLIGHT
BEGIN:STANDARD
TZOFFSETFROM:-0400
TZOFFSETTO:-0500
TZNAME:EST
DTSTART:20231105T060000
END:STANDARD
BEGIN:DAYLIGHT
TZOFFSETFROM:-0500
TZOFFSETTO:-0400
TZNAME:EDT
DTSTART:20240310T070000
END:DAYLIGHT
BEGIN:STANDARD
TZOFFSETFROM:-0400
TZOFFSETTO:-0500
TZNAME:EST
DTSTART:20241103T060000
END:STANDARD
END:VTIMEZONE
BEGIN:VEVENT
DTSTART;TZID=America/New_York:20231213T110000
DTEND;TZID=America/New_York:20231213T120000
DTSTAMP:20260425T165059
CREATED:20201210T111311Z
LAST-MODIFIED:20201210T111311Z
UID:1095-1702465200-1702468800@tomsriverucc.org
SUMMARY:Book Study
DESCRIPTION:Our weekly book study group takes place every Wednesday at 11:00 am via Zoom! If interested\, please email ucctrofc@comcast.net for Zoom information. \n 
URL:https://tomsriverucc.org/event/bible-study-every-wednesday-2023-12-13/
LOCATION:NJ
CATEGORIES:UCC Event
END:VEVENT
BEGIN:VEVENT
DTSTART;TZID=America/New_York:20231217T103000
DTEND;TZID=America/New_York:20231217T120000
DTSTAMP:20260425T165059
CREATED:20201229T161416Z
LAST-MODIFIED:20201229T161416Z
UID:1101-1702809000-1702814400@tomsriverucc.org
SUMMARY:Sunday Worship
DESCRIPTION:We hold our Sunday service every Sunday at 10:30 am. We have service in-person and over Zoom. Masks are required to enter the church. If you are interested in attending\, please email ucctrofc@comcast.net for more information. \n 
URL:https://tomsriverucc.org/event/sunday-worship-via-zoom-2023-12-17/
LOCATION:UCC Toms River Church\, 1681 Ridgeway Rd\, 08757\, NJ\, 08757\, United States
CATEGORIES:UCC Event
END:VEVENT
BEGIN:VEVENT
DTSTART;TZID=America/New_York:20231220T110000
DTEND;TZID=America/New_York:20231220T120000
DTSTAMP:20260425T165059
CREATED:20201210T111311Z
LAST-MODIFIED:20201210T111311Z
UID:1102-1703070000-1703073600@tomsriverucc.org
SUMMARY:Book Study
DESCRIPTION:Our weekly book study group takes place every Wednesday at 11:00 am via Zoom! If interested\, please email ucctrofc@comcast.net for Zoom information. \n 
URL:https://tomsriverucc.org/event/bible-study-every-wednesday-2023-12-20/
LOCATION:NJ
CATEGORIES:UCC Event
END:VEVENT
BEGIN:VEVENT
DTSTART;TZID=America/New_York:20231224T103000
DTEND;TZID=America/New_York:20231224T120000
DTSTAMP:20260425T165059
CREATED:20201229T161416Z
LAST-MODIFIED:20201229T161416Z
UID:1104-1703413800-1703419200@tomsriverucc.org
SUMMARY:Sunday Worship
DESCRIPTION:We hold our Sunday service every Sunday at 10:30 am. We have service in-person and over Zoom. Masks are required to enter the church. If you are interested in attending\, please email ucctrofc@comcast.net for more information. \n 
URL:https://tomsriverucc.org/event/sunday-worship-via-zoom-2023-12-24/
LOCATION:UCC Toms River Church\, 1681 Ridgeway Rd\, 08757\, NJ\, 08757\, United States
CATEGORIES:UCC Event
END:VEVENT
BEGIN:VEVENT
DTSTART;TZID=America/New_York:20231227T110000
DTEND;TZID=America/New_York:20231227T120000
DTSTAMP:20260425T165059
CREATED:20201210T111311Z
LAST-MODIFIED:20201210T111311Z
UID:1105-1703674800-1703678400@tomsriverucc.org
SUMMARY:Book Study
DESCRIPTION:Our weekly book study group takes place every Wednesday at 11:00 am via Zoom! If interested\, please email ucctrofc@comcast.net for Zoom information. \n 
URL:https://tomsriverucc.org/event/bible-study-every-wednesday-2023-12-27/
LOCATION:NJ
CATEGORIES:UCC Event
END:VEVENT
BEGIN:VEVENT
DTSTART;TZID=America/New_York:20231231T103000
DTEND;TZID=America/New_York:20231231T120000
DTSTAMP:20260425T165059
CREATED:20201229T161416Z
LAST-MODIFIED:20201229T161416Z
UID:1106-1704018600-1704024000@tomsriverucc.org
SUMMARY:Sunday Worship
DESCRIPTION:We hold our Sunday service every Sunday at 10:30 am. We have service in-person and over Zoom. Masks are required to enter the church. If you are interested in attending\, please email ucctrofc@comcast.net for more information. \n 
URL:https://tomsriverucc.org/event/sunday-worship-via-zoom-2023-12-31/
LOCATION:UCC Toms River Church\, 1681 Ridgeway Rd\, 08757\, NJ\, 08757\, United States
CATEGORIES:UCC Event
END:VEVENT
BEGIN:VEVENT
DTSTART;TZID=America/New_York:20240103T110000
DTEND;TZID=America/New_York:20240103T120000
DTSTAMP:20260425T165059
CREATED:20201210T111311Z
LAST-MODIFIED:20201210T111311Z
UID:1110-1704279600-1704283200@tomsriverucc.org
SUMMARY:Book Study
DESCRIPTION:Our weekly book study group takes place every Wednesday at 11:00 am via Zoom! If interested\, please email ucctrofc@comcast.net for Zoom information. \n 
URL:https://tomsriverucc.org/event/bible-study-every-wednesday-2024-01-03/
LOCATION:NJ
CATEGORIES:UCC Event
END:VEVENT
BEGIN:VEVENT
DTSTART;TZID=America/New_York:20240107T103000
DTEND;TZID=America/New_York:20240107T120000
DTSTAMP:20260425T165059
CREATED:20201229T161416Z
LAST-MODIFIED:20201229T161416Z
UID:1111-1704623400-1704628800@tomsriverucc.org
SUMMARY:Sunday Worship
DESCRIPTION:We hold our Sunday service every Sunday at 10:30 am. We have service in-person and over Zoom. Masks are required to enter the church. If you are interested in attending\, please email ucctrofc@comcast.net for more information. \n 
URL:https://tomsriverucc.org/event/sunday-worship-via-zoom-2024-01-07/
LOCATION:UCC Toms River Church\, 1681 Ridgeway Rd\, 08757\, NJ\, 08757\, United States
CATEGORIES:UCC Event
END:VEVENT
BEGIN:VEVENT
DTSTART;TZID=America/New_York:20240110T110000
DTEND;TZID=America/New_York:20240110T120000
DTSTAMP:20260425T165059
CREATED:20201210T111311Z
LAST-MODIFIED:20201210T111311Z
UID:1112-1704884400-1704888000@tomsriverucc.org
SUMMARY:Book Study
DESCRIPTION:Our weekly book study group takes place every Wednesday at 11:00 am via Zoom! If interested\, please email ucctrofc@comcast.net for Zoom information. \n 
URL:https://tomsriverucc.org/event/bible-study-every-wednesday-2024-01-10/
LOCATION:NJ
CATEGORIES:UCC Event
END:VEVENT
BEGIN:VEVENT
DTSTART;TZID=America/New_York:20240114T103000
DTEND;TZID=America/New_York:20240114T120000
DTSTAMP:20260425T165059
CREATED:20201229T161416Z
LAST-MODIFIED:20201229T161416Z
UID:1113-1705228200-1705233600@tomsriverucc.org
SUMMARY:Sunday Worship
DESCRIPTION:We hold our Sunday service every Sunday at 10:30 am. We have service in-person and over Zoom. Masks are required to enter the church. If you are interested in attending\, please email ucctrofc@comcast.net for more information. \n 
URL:https://tomsriverucc.org/event/sunday-worship-via-zoom-2024-01-14/
LOCATION:UCC Toms River Church\, 1681 Ridgeway Rd\, 08757\, NJ\, 08757\, United States
CATEGORIES:UCC Event
END:VEVENT
BEGIN:VEVENT
DTSTART;TZID=America/New_York:20240117T110000
DTEND;TZID=America/New_York:20240117T120000
DTSTAMP:20260425T165059
CREATED:20201210T111311Z
LAST-MODIFIED:20201210T111311Z
UID:1114-1705489200-1705492800@tomsriverucc.org
SUMMARY:Book Study
DESCRIPTION:Our weekly book study group takes place every Wednesday at 11:00 am via Zoom! If interested\, please email ucctrofc@comcast.net for Zoom information. \n 
URL:https://tomsriverucc.org/event/bible-study-every-wednesday-2024-01-17/
LOCATION:NJ
CATEGORIES:UCC Event
END:VEVENT
BEGIN:VEVENT
DTSTART;TZID=America/New_York:20240121T103000
DTEND;TZID=America/New_York:20240121T120000
DTSTAMP:20260425T165059
CREATED:20201229T161416Z
LAST-MODIFIED:20201229T161416Z
UID:1115-1705833000-1705838400@tomsriverucc.org
SUMMARY:Sunday Worship
DESCRIPTION:We hold our Sunday service every Sunday at 10:30 am. We have service in-person and over Zoom. Masks are required to enter the church. If you are interested in attending\, please email ucctrofc@comcast.net for more information. \n 
URL:https://tomsriverucc.org/event/sunday-worship-via-zoom-2024-01-21/
LOCATION:UCC Toms River Church\, 1681 Ridgeway Rd\, 08757\, NJ\, 08757\, United States
CATEGORIES:UCC Event
END:VEVENT
BEGIN:VEVENT
DTSTART;TZID=America/New_York:20240124T110000
DTEND;TZID=America/New_York:20240124T120000
DTSTAMP:20260425T165059
CREATED:20201210T111311Z
LAST-MODIFIED:20201210T111311Z
UID:1116-1706094000-1706097600@tomsriverucc.org
SUMMARY:Book Study
DESCRIPTION:Our weekly book study group takes place every Wednesday at 11:00 am via Zoom! If interested\, please email ucctrofc@comcast.net for Zoom information. \n 
URL:https://tomsriverucc.org/event/bible-study-every-wednesday-2024-01-24/
LOCATION:NJ
CATEGORIES:UCC Event
END:VEVENT
BEGIN:VEVENT
DTSTART;TZID=America/New_York:20240128T103000
DTEND;TZID=America/New_York:20240128T120000
DTSTAMP:20260425T165059
CREATED:20201229T161416Z
LAST-MODIFIED:20201229T161416Z
UID:1118-1706437800-1706443200@tomsriverucc.org
SUMMARY:Sunday Worship
DESCRIPTION:We hold our Sunday service every Sunday at 10:30 am. We have service in-person and over Zoom. Masks are required to enter the church. If you are interested in attending\, please email ucctrofc@comcast.net for more information. \n 
URL:https://tomsriverucc.org/event/sunday-worship-via-zoom-2024-01-28/
LOCATION:UCC Toms River Church\, 1681 Ridgeway Rd\, 08757\, NJ\, 08757\, United States
CATEGORIES:UCC Event
END:VEVENT
BEGIN:VEVENT
DTSTART;TZID=America/New_York:20240131T110000
DTEND;TZID=America/New_York:20240131T120000
DTSTAMP:20260425T165059
CREATED:20201210T111311Z
LAST-MODIFIED:20201210T111311Z
UID:1119-1706698800-1706702400@tomsriverucc.org
SUMMARY:Book Study
DESCRIPTION:Our weekly book study group takes place every Wednesday at 11:00 am via Zoom! If interested\, please email ucctrofc@comcast.net for Zoom information. \n 
URL:https://tomsriverucc.org/event/bible-study-every-wednesday-2024-01-31/
LOCATION:NJ
CATEGORIES:UCC Event
END:VEVENT
BEGIN:VEVENT
DTSTART;TZID=America/New_York:20240204T103000
DTEND;TZID=America/New_York:20240204T120000
DTSTAMP:20260425T165059
CREATED:20201229T161416Z
LAST-MODIFIED:20201229T161416Z
UID:1120-1707042600-1707048000@tomsriverucc.org
SUMMARY:Sunday Worship
DESCRIPTION:We hold our Sunday service every Sunday at 10:30 am. We have service in-person and over Zoom. Masks are required to enter the church. If you are interested in attending\, please email ucctrofc@comcast.net for more information. \n 
URL:https://tomsriverucc.org/event/sunday-worship-via-zoom-2024-02-04/
LOCATION:UCC Toms River Church\, 1681 Ridgeway Rd\, 08757\, NJ\, 08757\, United States
CATEGORIES:UCC Event
END:VEVENT
BEGIN:VEVENT
DTSTART;TZID=America/New_York:20240207T110000
DTEND;TZID=America/New_York:20240207T120000
DTSTAMP:20260425T165059
CREATED:20201210T111311Z
LAST-MODIFIED:20201210T111311Z
UID:1121-1707303600-1707307200@tomsriverucc.org
SUMMARY:Book Study
DESCRIPTION:Our weekly book study group takes place every Wednesday at 11:00 am via Zoom! If interested\, please email ucctrofc@comcast.net for Zoom information. \n 
URL:https://tomsriverucc.org/event/bible-study-every-wednesday-2024-02-07/
LOCATION:NJ
CATEGORIES:UCC Event
END:VEVENT
BEGIN:VEVENT
DTSTART;TZID=America/New_York:20240211T103000
DTEND;TZID=America/New_York:20240211T120000
DTSTAMP:20260425T165059
CREATED:20201229T161416Z
LAST-MODIFIED:20201229T161416Z
UID:1122-1707647400-1707652800@tomsriverucc.org
SUMMARY:Sunday Worship
DESCRIPTION:We hold our Sunday service every Sunday at 10:30 am. We have service in-person and over Zoom. Masks are required to enter the church. If you are interested in attending\, please email ucctrofc@comcast.net for more information. \n 
URL:https://tomsriverucc.org/event/sunday-worship-via-zoom-2024-02-11/
LOCATION:UCC Toms River Church\, 1681 Ridgeway Rd\, 08757\, NJ\, 08757\, United States
CATEGORIES:UCC Event
END:VEVENT
BEGIN:VEVENT
DTSTART;TZID=America/New_York:20240214T110000
DTEND;TZID=America/New_York:20240214T120000
DTSTAMP:20260425T165059
CREATED:20201210T111311Z
LAST-MODIFIED:20201210T111311Z
UID:1123-1707908400-1707912000@tomsriverucc.org
SUMMARY:Book Study
DESCRIPTION:Our weekly book study group takes place every Wednesday at 11:00 am via Zoom! If interested\, please email ucctrofc@comcast.net for Zoom information. \n 
URL:https://tomsriverucc.org/event/bible-study-every-wednesday-2024-02-14/
LOCATION:NJ
CATEGORIES:UCC Event
END:VEVENT
BEGIN:VEVENT
DTSTART;TZID=America/New_York:20240218T103000
DTEND;TZID=America/New_York:20240218T120000
DTSTAMP:20260425T165059
CREATED:20201229T161416Z
LAST-MODIFIED:20201229T161416Z
UID:1124-1708252200-1708257600@tomsriverucc.org
SUMMARY:Sunday Worship
DESCRIPTION:We hold our Sunday service every Sunday at 10:30 am. We have service in-person and over Zoom. Masks are required to enter the church. If you are interested in attending\, please email ucctrofc@comcast.net for more information. \n 
URL:https://tomsriverucc.org/event/sunday-worship-via-zoom-2024-02-18/
LOCATION:UCC Toms River Church\, 1681 Ridgeway Rd\, 08757\, NJ\, 08757\, United States
CATEGORIES:UCC Event
END:VEVENT
BEGIN:VEVENT
DTSTART;TZID=America/New_York:20240221T110000
DTEND;TZID=America/New_York:20240221T120000
DTSTAMP:20260425T165059
CREATED:20201210T111311Z
LAST-MODIFIED:20201210T111311Z
UID:1125-1708513200-1708516800@tomsriverucc.org
SUMMARY:Book Study
DESCRIPTION:Our weekly book study group takes place every Wednesday at 11:00 am via Zoom! If interested\, please email ucctrofc@comcast.net for Zoom information. \n 
URL:https://tomsriverucc.org/event/bible-study-every-wednesday-2024-02-21/
LOCATION:NJ
CATEGORIES:UCC Event
END:VEVENT
BEGIN:VEVENT
DTSTART;TZID=America/New_York:20240225T103000
DTEND;TZID=America/New_York:20240225T120000
DTSTAMP:20260425T165059
CREATED:20201229T161416Z
LAST-MODIFIED:20201229T161416Z
UID:1126-1708857000-1708862400@tomsriverucc.org
SUMMARY:Sunday Worship
DESCRIPTION:We hold our Sunday service every Sunday at 10:30 am. We have service in-person and over Zoom. Masks are required to enter the church. If you are interested in attending\, please email ucctrofc@comcast.net for more information. \n 
URL:https://tomsriverucc.org/event/sunday-worship-via-zoom-2024-02-25/
LOCATION:UCC Toms River Church\, 1681 Ridgeway Rd\, 08757\, NJ\, 08757\, United States
CATEGORIES:UCC Event
END:VEVENT
BEGIN:VEVENT
DTSTART;TZID=America/New_York:20240228T110000
DTEND;TZID=America/New_York:20240228T120000
DTSTAMP:20260425T165059
CREATED:20201210T111311Z
LAST-MODIFIED:20201210T111311Z
UID:1127-1709118000-1709121600@tomsriverucc.org
SUMMARY:Book Study
DESCRIPTION:Our weekly book study group takes place every Wednesday at 11:00 am via Zoom! If interested\, please email ucctrofc@comcast.net for Zoom information. \n 
URL:https://tomsriverucc.org/event/bible-study-every-wednesday-2024-02-28/
LOCATION:NJ
CATEGORIES:UCC Event
END:VEVENT
BEGIN:VEVENT
DTSTART;TZID=America/New_York:20240303T103000
DTEND;TZID=America/New_York:20240303T120000
DTSTAMP:20260425T165059
CREATED:20201229T161416Z
LAST-MODIFIED:20201229T161416Z
UID:1128-1709461800-1709467200@tomsriverucc.org
SUMMARY:Sunday Worship
DESCRIPTION:We hold our Sunday service every Sunday at 10:30 am. We have service in-person and over Zoom. Masks are required to enter the church. If you are interested in attending\, please email ucctrofc@comcast.net for more information. \n 
URL:https://tomsriverucc.org/event/sunday-worship-via-zoom-2024-03-03/
LOCATION:UCC Toms River Church\, 1681 Ridgeway Rd\, 08757\, NJ\, 08757\, United States
CATEGORIES:UCC Event
END:VEVENT
BEGIN:VEVENT
DTSTART;TZID=America/New_York:20240306T110000
DTEND;TZID=America/New_York:20240306T120000
DTSTAMP:20260425T165059
CREATED:20201210T111311Z
LAST-MODIFIED:20201210T111311Z
UID:1129-1709722800-1709726400@tomsriverucc.org
SUMMARY:Book Study
DESCRIPTION:Our weekly book study group takes place every Wednesday at 11:00 am via Zoom! If interested\, please email ucctrofc@comcast.net for Zoom information. \n 
URL:https://tomsriverucc.org/event/bible-study-every-wednesday-2024-03-06/
LOCATION:NJ
CATEGORIES:UCC Event
END:VEVENT
BEGIN:VEVENT
DTSTART;TZID=America/New_York:20240310T103000
DTEND;TZID=America/New_York:20240310T120000
DTSTAMP:20260425T165059
CREATED:20201229T161416Z
LAST-MODIFIED:20201229T161416Z
UID:1130-1710066600-1710072000@tomsriverucc.org
SUMMARY:Sunday Worship
DESCRIPTION:We hold our Sunday service every Sunday at 10:30 am. We have service in-person and over Zoom. Masks are required to enter the church. If you are interested in attending\, please email ucctrofc@comcast.net for more information. \n 
URL:https://tomsriverucc.org/event/sunday-worship-via-zoom-2024-03-10/
LOCATION:UCC Toms River Church\, 1681 Ridgeway Rd\, 08757\, NJ\, 08757\, United States
CATEGORIES:UCC Event
END:VEVENT
BEGIN:VEVENT
DTSTART;TZID=America/New_York:20240313T110000
DTEND;TZID=America/New_York:20240313T120000
DTSTAMP:20260425T165059
CREATED:20201210T111311Z
LAST-MODIFIED:20201210T111311Z
UID:1131-1710327600-1710331200@tomsriverucc.org
SUMMARY:Book Study
DESCRIPTION:Our weekly book study group takes place every Wednesday at 11:00 am via Zoom! If interested\, please email ucctrofc@comcast.net for Zoom information. \n 
URL:https://tomsriverucc.org/event/bible-study-every-wednesday-2024-03-13/
LOCATION:NJ
CATEGORIES:UCC Event
END:VEVENT
BEGIN:VEVENT
DTSTART;TZID=America/New_York:20240317T103000
DTEND;TZID=America/New_York:20240317T120000
DTSTAMP:20260425T165059
CREATED:20201229T161416Z
LAST-MODIFIED:20201229T161416Z
UID:1132-1710671400-1710676800@tomsriverucc.org
SUMMARY:Sunday Worship
DESCRIPTION:We hold our Sunday service every Sunday at 10:30 am. We have service in-person and over Zoom. Masks are required to enter the church. If you are interested in attending\, please email ucctrofc@comcast.net for more information. \n 
URL:https://tomsriverucc.org/event/sunday-worship-via-zoom-2024-03-17/
LOCATION:UCC Toms River Church\, 1681 Ridgeway Rd\, 08757\, NJ\, 08757\, United States
CATEGORIES:UCC Event
END:VEVENT
BEGIN:VEVENT
DTSTART;TZID=America/New_York:20240320T110000
DTEND;TZID=America/New_York:20240320T120000
DTSTAMP:20260425T165059
CREATED:20201210T111311Z
LAST-MODIFIED:20201210T111311Z
UID:1133-1710932400-1710936000@tomsriverucc.org
SUMMARY:Book Study
DESCRIPTION:Our weekly book study group takes place every Wednesday at 11:00 am via Zoom! If interested\, please email ucctrofc@comcast.net for Zoom information. \n 
URL:https://tomsriverucc.org/event/bible-study-every-wednesday-2024-03-20/
LOCATION:NJ
CATEGORIES:UCC Event
END:VEVENT
BEGIN:VEVENT
DTSTART;TZID=America/New_York:20240324T103000
DTEND;TZID=America/New_York:20240324T120000
DTSTAMP:20260425T165059
CREATED:20201229T161416Z
LAST-MODIFIED:20201229T161416Z
UID:1140-1711276200-1711281600@tomsriverucc.org
SUMMARY:Sunday Worship
DESCRIPTION:We hold our Sunday service every Sunday at 10:30 am. We have service in-person and over Zoom. Masks are required to enter the church. If you are interested in attending\, please email ucctrofc@comcast.net for more information. \n 
URL:https://tomsriverucc.org/event/sunday-worship-via-zoom-2024-03-24/
LOCATION:UCC Toms River Church\, 1681 Ridgeway Rd\, 08757\, NJ\, 08757\, United States
CATEGORIES:UCC Event
END:VEVENT
END:VCALENDAR