BEGIN:VCALENDAR
VERSION:2.0
PRODID:-// - ECPv6.13.2.1//NONSGML v1.0//EN
CALSCALE:GREGORIAN
METHOD:PUBLISH
X-ORIGINAL-URL:https://tomsriverucc.org
X-WR-CALDESC:Events for 
REFRESH-INTERVAL;VALUE=DURATION:PT1H
X-Robots-Tag:noindex
X-PUBLISHED-TTL:PT1H
BEGIN:VTIMEZONE
TZID:America/New_York
BEGIN:DAYLIGHT
TZOFFSETFROM:-0500
TZOFFSETTO:-0400
TZNAME:EDT
DTSTART:20250309T070000
END:DAYLIGHT
BEGIN:STANDARD
TZOFFSETFROM:-0400
TZOFFSETTO:-0500
TZNAME:EST
DTSTART:20251102T060000
END:STANDARD
END:VTIMEZONE
BEGIN:VEVENT
DTSTART;TZID=America/New_York:20250511T103000
DTEND;TZID=America/New_York:20250511T120000
DTSTAMP:20260425T090825
CREATED:20201229T161416Z
LAST-MODIFIED:20201229T161416Z
UID:1350-1746959400-1746964800@tomsriverucc.org
SUMMARY:Sunday Worship
DESCRIPTION:We hold our Sunday service every Sunday at 10:30 am. We have service in-person and over Zoom. Masks are required to enter the church. If you are interested in attending\, please email ucctrofc@comcast.net for more information. \n 
URL:https://tomsriverucc.org/event/sunday-worship-via-zoom-2025-05-11/
LOCATION:UCC Toms River Church\, 1681 Ridgeway Rd\, 08757\, NJ\, 08757\, United States
CATEGORIES:UCC Event
END:VEVENT
BEGIN:VEVENT
DTSTART;TZID=America/New_York:20250514T110000
DTEND;TZID=America/New_York:20250514T120000
DTSTAMP:20260425T090825
CREATED:20201210T111311Z
LAST-MODIFIED:20201210T111311Z
UID:1351-1747220400-1747224000@tomsriverucc.org
SUMMARY:Book Study
DESCRIPTION:Our weekly book study group takes place every Wednesday at 11:00 am via Zoom! If interested\, please email ucctrofc@comcast.net for Zoom information. \n 
URL:https://tomsriverucc.org/event/bible-study-every-wednesday-2025-05-14/
LOCATION:NJ
CATEGORIES:UCC Event
END:VEVENT
BEGIN:VEVENT
DTSTART;TZID=America/New_York:20250518T103000
DTEND;TZID=America/New_York:20250518T120000
DTSTAMP:20260425T090825
CREATED:20201229T161416Z
LAST-MODIFIED:20201229T161416Z
UID:1353-1747564200-1747569600@tomsriverucc.org
SUMMARY:Sunday Worship
DESCRIPTION:We hold our Sunday service every Sunday at 10:30 am. We have service in-person and over Zoom. Masks are required to enter the church. If you are interested in attending\, please email ucctrofc@comcast.net for more information. \n 
URL:https://tomsriverucc.org/event/sunday-worship-via-zoom-2025-05-18/
LOCATION:UCC Toms River Church\, 1681 Ridgeway Rd\, 08757\, NJ\, 08757\, United States
CATEGORIES:UCC Event
END:VEVENT
BEGIN:VEVENT
DTSTART;TZID=America/New_York:20250521T110000
DTEND;TZID=America/New_York:20250521T120000
DTSTAMP:20260425T090825
CREATED:20201210T111311Z
LAST-MODIFIED:20201210T111311Z
UID:1354-1747825200-1747828800@tomsriverucc.org
SUMMARY:Book Study
DESCRIPTION:Our weekly book study group takes place every Wednesday at 11:00 am via Zoom! If interested\, please email ucctrofc@comcast.net for Zoom information. \n 
URL:https://tomsriverucc.org/event/bible-study-every-wednesday-2025-05-21/
LOCATION:NJ
CATEGORIES:UCC Event
END:VEVENT
BEGIN:VEVENT
DTSTART;TZID=America/New_York:20250525T103000
DTEND;TZID=America/New_York:20250525T120000
DTSTAMP:20260425T090825
CREATED:20201229T161416Z
LAST-MODIFIED:20201229T161416Z
UID:1355-1748169000-1748174400@tomsriverucc.org
SUMMARY:Sunday Worship
DESCRIPTION:We hold our Sunday service every Sunday at 10:30 am. We have service in-person and over Zoom. Masks are required to enter the church. If you are interested in attending\, please email ucctrofc@comcast.net for more information. \n 
URL:https://tomsriverucc.org/event/sunday-worship-via-zoom-2025-05-25/
LOCATION:UCC Toms River Church\, 1681 Ridgeway Rd\, 08757\, NJ\, 08757\, United States
CATEGORIES:UCC Event
END:VEVENT
BEGIN:VEVENT
DTSTART;TZID=America/New_York:20250528T110000
DTEND;TZID=America/New_York:20250528T120000
DTSTAMP:20260425T090825
CREATED:20201210T111311Z
LAST-MODIFIED:20201210T111311Z
UID:1356-1748430000-1748433600@tomsriverucc.org
SUMMARY:Book Study
DESCRIPTION:Our weekly book study group takes place every Wednesday at 11:00 am via Zoom! If interested\, please email ucctrofc@comcast.net for Zoom information. \n 
URL:https://tomsriverucc.org/event/bible-study-every-wednesday-2025-05-28/
LOCATION:NJ
CATEGORIES:UCC Event
END:VEVENT
BEGIN:VEVENT
DTSTART;TZID=America/New_York:20250601T103000
DTEND;TZID=America/New_York:20250601T120000
DTSTAMP:20260425T090825
CREATED:20201229T161416Z
LAST-MODIFIED:20201229T161416Z
UID:1357-1748773800-1748779200@tomsriverucc.org
SUMMARY:Sunday Worship
DESCRIPTION:We hold our Sunday service every Sunday at 10:30 am. We have service in-person and over Zoom. Masks are required to enter the church. If you are interested in attending\, please email ucctrofc@comcast.net for more information. \n 
URL:https://tomsriverucc.org/event/sunday-worship-via-zoom-2025-06-01/
LOCATION:UCC Toms River Church\, 1681 Ridgeway Rd\, 08757\, NJ\, 08757\, United States
CATEGORIES:UCC Event
END:VEVENT
BEGIN:VEVENT
DTSTART;TZID=America/New_York:20250604T110000
DTEND;TZID=America/New_York:20250604T120000
DTSTAMP:20260425T090825
CREATED:20201210T111311Z
LAST-MODIFIED:20201210T111311Z
UID:1358-1749034800-1749038400@tomsriverucc.org
SUMMARY:Book Study
DESCRIPTION:Our weekly book study group takes place every Wednesday at 11:00 am via Zoom! If interested\, please email ucctrofc@comcast.net for Zoom information. \n 
URL:https://tomsriverucc.org/event/bible-study-every-wednesday-2025-06-04/
LOCATION:NJ
CATEGORIES:UCC Event
END:VEVENT
BEGIN:VEVENT
DTSTART;TZID=America/New_York:20250608T103000
DTEND;TZID=America/New_York:20250608T120000
DTSTAMP:20260425T090825
CREATED:20201229T161416Z
LAST-MODIFIED:20201229T161416Z
UID:1359-1749378600-1749384000@tomsriverucc.org
SUMMARY:Sunday Worship
DESCRIPTION:We hold our Sunday service every Sunday at 10:30 am. We have service in-person and over Zoom. Masks are required to enter the church. If you are interested in attending\, please email ucctrofc@comcast.net for more information. \n 
URL:https://tomsriverucc.org/event/sunday-worship-via-zoom-2025-06-08/
LOCATION:UCC Toms River Church\, 1681 Ridgeway Rd\, 08757\, NJ\, 08757\, United States
CATEGORIES:UCC Event
END:VEVENT
BEGIN:VEVENT
DTSTART;TZID=America/New_York:20250611T110000
DTEND;TZID=America/New_York:20250611T120000
DTSTAMP:20260425T090825
CREATED:20201210T111311Z
LAST-MODIFIED:20201210T111311Z
UID:1360-1749639600-1749643200@tomsriverucc.org
SUMMARY:Book Study
DESCRIPTION:Our weekly book study group takes place every Wednesday at 11:00 am via Zoom! If interested\, please email ucctrofc@comcast.net for Zoom information. \n 
URL:https://tomsriverucc.org/event/bible-study-every-wednesday-2025-06-11/
LOCATION:NJ
CATEGORIES:UCC Event
END:VEVENT
BEGIN:VEVENT
DTSTART;TZID=America/New_York:20250615T103000
DTEND;TZID=America/New_York:20250615T120000
DTSTAMP:20260425T090825
CREATED:20201229T161416Z
LAST-MODIFIED:20201229T161416Z
UID:1361-1749983400-1749988800@tomsriverucc.org
SUMMARY:Sunday Worship
DESCRIPTION:We hold our Sunday service every Sunday at 10:30 am. We have service in-person and over Zoom. Masks are required to enter the church. If you are interested in attending\, please email ucctrofc@comcast.net for more information. \n 
URL:https://tomsriverucc.org/event/sunday-worship-via-zoom-2025-06-15/
LOCATION:UCC Toms River Church\, 1681 Ridgeway Rd\, 08757\, NJ\, 08757\, United States
CATEGORIES:UCC Event
END:VEVENT
BEGIN:VEVENT
DTSTART;TZID=America/New_York:20250618T110000
DTEND;TZID=America/New_York:20250618T120000
DTSTAMP:20260425T090825
CREATED:20201210T111311Z
LAST-MODIFIED:20201210T111311Z
UID:1362-1750244400-1750248000@tomsriverucc.org
SUMMARY:Book Study
DESCRIPTION:Our weekly book study group takes place every Wednesday at 11:00 am via Zoom! If interested\, please email ucctrofc@comcast.net for Zoom information. \n 
URL:https://tomsriverucc.org/event/bible-study-every-wednesday-2025-06-18/
LOCATION:NJ
CATEGORIES:UCC Event
END:VEVENT
BEGIN:VEVENT
DTSTART;TZID=America/New_York:20250622T103000
DTEND;TZID=America/New_York:20250622T120000
DTSTAMP:20260425T090825
CREATED:20201229T161416Z
LAST-MODIFIED:20201229T161416Z
UID:1363-1750588200-1750593600@tomsriverucc.org
SUMMARY:Sunday Worship
DESCRIPTION:We hold our Sunday service every Sunday at 10:30 am. We have service in-person and over Zoom. Masks are required to enter the church. If you are interested in attending\, please email ucctrofc@comcast.net for more information. \n 
URL:https://tomsriverucc.org/event/sunday-worship-via-zoom-2025-06-22/
LOCATION:UCC Toms River Church\, 1681 Ridgeway Rd\, 08757\, NJ\, 08757\, United States
CATEGORIES:UCC Event
END:VEVENT
BEGIN:VEVENT
DTSTART;TZID=America/New_York:20250625T110000
DTEND;TZID=America/New_York:20250625T120000
DTSTAMP:20260425T090825
CREATED:20201210T111311Z
LAST-MODIFIED:20230629T151429Z
UID:1364-1750849200-1750852800@tomsriverucc.org
SUMMARY:Book Study
DESCRIPTION:Our weekly book study group takes place every Wednesday at 11:00 am via Zoom! If interested\, please email ucctrofc@comcast.net for Zoom information. \n 
URL:https://tomsriverucc.org/event/bible-study-every-wednesday-2025-06-25/
LOCATION:NJ
CATEGORIES:UCC Event
END:VEVENT
BEGIN:VEVENT
DTSTART;TZID=America/New_York:20250629T103000
DTEND;TZID=America/New_York:20250629T120000
DTSTAMP:20260425T090825
CREATED:20201229T161416Z
LAST-MODIFIED:20201229T161416Z
UID:1375-1751193000-1751198400@tomsriverucc.org
SUMMARY:Sunday Worship
DESCRIPTION:We hold our Sunday service every Sunday at 10:30 am. We have service in-person and over Zoom. Masks are required to enter the church. If you are interested in attending\, please email ucctrofc@comcast.net for more information. \n 
URL:https://tomsriverucc.org/event/sunday-worship-via-zoom-2025-06-29/
LOCATION:UCC Toms River Church\, 1681 Ridgeway Rd\, 08757\, NJ\, 08757\, United States
CATEGORIES:UCC Event
END:VEVENT
BEGIN:VEVENT
DTSTART;TZID=America/New_York:20250702T110000
DTEND;TZID=America/New_York:20250702T120000
DTSTAMP:20260425T090825
CREATED:20201210T111311Z
LAST-MODIFIED:20201210T111311Z
UID:1376-1751454000-1751457600@tomsriverucc.org
SUMMARY:Book Study
DESCRIPTION:Our weekly book study group takes place every Wednesday at 11:00 am via Zoom! If interested\, please email ucctrofc@comcast.net for Zoom information. \n 
URL:https://tomsriverucc.org/event/bible-study-every-wednesday-2025-07-02/
LOCATION:NJ
CATEGORIES:UCC Event
END:VEVENT
BEGIN:VEVENT
DTSTART;TZID=America/New_York:20250702T110000
DTEND;TZID=America/New_York:20250702T120000
DTSTAMP:20260425T090825
CREATED:20201210T111311Z
LAST-MODIFIED:20201210T111311Z
UID:1377-1751454000-1751457600@tomsriverucc.org
SUMMARY:Book Study
DESCRIPTION:Our weekly book study group takes place every Wednesday at 11:00 am via Zoom! If interested\, please email ucctrofc@comcast.net for Zoom information. \n 
URL:https://tomsriverucc.org/event/bible-study-every-wednesday-2025-06-25-2025-07-02/
LOCATION:NJ
CATEGORIES:UCC Event
END:VEVENT
BEGIN:VEVENT
DTSTART;TZID=America/New_York:20250706T103000
DTEND;TZID=America/New_York:20250706T120000
DTSTAMP:20260425T090825
CREATED:20201229T161416Z
LAST-MODIFIED:20201229T161416Z
UID:1378-1751797800-1751803200@tomsriverucc.org
SUMMARY:Sunday Worship
DESCRIPTION:We hold our Sunday service every Sunday at 10:30 am. We have service in-person and over Zoom. Masks are required to enter the church. If you are interested in attending\, please email ucctrofc@comcast.net for more information. \n 
URL:https://tomsriverucc.org/event/sunday-worship-via-zoom-2025-07-06/
LOCATION:UCC Toms River Church\, 1681 Ridgeway Rd\, 08757\, NJ\, 08757\, United States
CATEGORIES:UCC Event
END:VEVENT
BEGIN:VEVENT
DTSTART;TZID=America/New_York:20250709T110000
DTEND;TZID=America/New_York:20250709T120000
DTSTAMP:20260425T090825
CREATED:20201210T111311Z
LAST-MODIFIED:20201210T111311Z
UID:1379-1752058800-1752062400@tomsriverucc.org
SUMMARY:Book Study
DESCRIPTION:Our weekly book study group takes place every Wednesday at 11:00 am via Zoom! If interested\, please email ucctrofc@comcast.net for Zoom information. \n 
URL:https://tomsriverucc.org/event/bible-study-every-wednesday-2025-07-09/
LOCATION:NJ
CATEGORIES:UCC Event
END:VEVENT
BEGIN:VEVENT
DTSTART;TZID=America/New_York:20250709T110000
DTEND;TZID=America/New_York:20250709T120000
DTSTAMP:20260425T090825
CREATED:20201210T111311Z
LAST-MODIFIED:20201210T111311Z
UID:1380-1752058800-1752062400@tomsriverucc.org
SUMMARY:Book Study
DESCRIPTION:Our weekly book study group takes place every Wednesday at 11:00 am via Zoom! If interested\, please email ucctrofc@comcast.net for Zoom information. \n 
URL:https://tomsriverucc.org/event/bible-study-every-wednesday-2025-06-25-2025-07-09/
LOCATION:NJ
CATEGORIES:UCC Event
END:VEVENT
BEGIN:VEVENT
DTSTART;TZID=America/New_York:20250713T103000
DTEND;TZID=America/New_York:20250713T120000
DTSTAMP:20260425T090825
CREATED:20201229T161416Z
LAST-MODIFIED:20201229T161416Z
UID:1381-1752402600-1752408000@tomsriverucc.org
SUMMARY:Sunday Worship
DESCRIPTION:We hold our Sunday service every Sunday at 10:30 am. We have service in-person and over Zoom. Masks are required to enter the church. If you are interested in attending\, please email ucctrofc@comcast.net for more information. \n 
URL:https://tomsriverucc.org/event/sunday-worship-via-zoom-2025-07-13/
LOCATION:UCC Toms River Church\, 1681 Ridgeway Rd\, 08757\, NJ\, 08757\, United States
CATEGORIES:UCC Event
END:VEVENT
BEGIN:VEVENT
DTSTART;TZID=America/New_York:20250716T110000
DTEND;TZID=America/New_York:20250716T120000
DTSTAMP:20260425T090825
CREATED:20201210T111311Z
LAST-MODIFIED:20201210T111311Z
UID:1382-1752663600-1752667200@tomsriverucc.org
SUMMARY:Book Study
DESCRIPTION:Our weekly book study group takes place every Wednesday at 11:00 am via Zoom! If interested\, please email ucctrofc@comcast.net for Zoom information. \n 
URL:https://tomsriverucc.org/event/bible-study-every-wednesday-2025-07-16/
LOCATION:NJ
CATEGORIES:UCC Event
END:VEVENT
BEGIN:VEVENT
DTSTART;TZID=America/New_York:20250716T110000
DTEND;TZID=America/New_York:20250716T120000
DTSTAMP:20260425T090825
CREATED:20201210T111311Z
LAST-MODIFIED:20201210T111311Z
UID:1383-1752663600-1752667200@tomsriverucc.org
SUMMARY:Book Study
DESCRIPTION:Our weekly book study group takes place every Wednesday at 11:00 am via Zoom! If interested\, please email ucctrofc@comcast.net for Zoom information. \n 
URL:https://tomsriverucc.org/event/bible-study-every-wednesday-2025-06-25-2025-07-16/
LOCATION:NJ
CATEGORIES:UCC Event
END:VEVENT
BEGIN:VEVENT
DTSTART;TZID=America/New_York:20250720T103000
DTEND;TZID=America/New_York:20250720T120000
DTSTAMP:20260425T090825
CREATED:20201229T161416Z
LAST-MODIFIED:20201229T161416Z
UID:1384-1753007400-1753012800@tomsriverucc.org
SUMMARY:Sunday Worship
DESCRIPTION:We hold our Sunday service every Sunday at 10:30 am. We have service in-person and over Zoom. Masks are required to enter the church. If you are interested in attending\, please email ucctrofc@comcast.net for more information. \n 
URL:https://tomsriverucc.org/event/sunday-worship-via-zoom-2025-07-20/
LOCATION:UCC Toms River Church\, 1681 Ridgeway Rd\, 08757\, NJ\, 08757\, United States
CATEGORIES:UCC Event
END:VEVENT
BEGIN:VEVENT
DTSTART;TZID=America/New_York:20250723T110000
DTEND;TZID=America/New_York:20250723T120000
DTSTAMP:20260425T090825
CREATED:20201210T111311Z
LAST-MODIFIED:20201210T111311Z
UID:1385-1753268400-1753272000@tomsriverucc.org
SUMMARY:Book Study
DESCRIPTION:Our weekly book study group takes place every Wednesday at 11:00 am via Zoom! If interested\, please email ucctrofc@comcast.net for Zoom information. \n 
URL:https://tomsriverucc.org/event/bible-study-every-wednesday-2025-07-23/
LOCATION:NJ
CATEGORIES:UCC Event
END:VEVENT
BEGIN:VEVENT
DTSTART;TZID=America/New_York:20250723T110000
DTEND;TZID=America/New_York:20250723T120000
DTSTAMP:20260425T090825
CREATED:20201210T111311Z
LAST-MODIFIED:20201210T111311Z
UID:1386-1753268400-1753272000@tomsriverucc.org
SUMMARY:Book Study
DESCRIPTION:Our weekly book study group takes place every Wednesday at 11:00 am via Zoom! If interested\, please email ucctrofc@comcast.net for Zoom information. \n 
URL:https://tomsriverucc.org/event/bible-study-every-wednesday-2025-06-25-2025-07-23/
LOCATION:NJ
CATEGORIES:UCC Event
END:VEVENT
BEGIN:VEVENT
DTSTART;TZID=America/New_York:20250727T103000
DTEND;TZID=America/New_York:20250727T120000
DTSTAMP:20260425T090825
CREATED:20201229T161416Z
LAST-MODIFIED:20201229T161416Z
UID:1387-1753612200-1753617600@tomsriverucc.org
SUMMARY:Sunday Worship
DESCRIPTION:We hold our Sunday service every Sunday at 10:30 am. We have service in-person and over Zoom. Masks are required to enter the church. If you are interested in attending\, please email ucctrofc@comcast.net for more information. \n 
URL:https://tomsriverucc.org/event/sunday-worship-via-zoom-2025-07-27/
LOCATION:UCC Toms River Church\, 1681 Ridgeway Rd\, 08757\, NJ\, 08757\, United States
CATEGORIES:UCC Event
END:VEVENT
BEGIN:VEVENT
DTSTART;TZID=America/New_York:20250730T110000
DTEND;TZID=America/New_York:20250730T120000
DTSTAMP:20260425T090825
CREATED:20201210T111311Z
LAST-MODIFIED:20201210T111311Z
UID:1388-1753873200-1753876800@tomsriverucc.org
SUMMARY:Book Study
DESCRIPTION:Our weekly book study group takes place every Wednesday at 11:00 am via Zoom! If interested\, please email ucctrofc@comcast.net for Zoom information. \n 
URL:https://tomsriverucc.org/event/bible-study-every-wednesday-2025-07-30/
LOCATION:NJ
CATEGORIES:UCC Event
END:VEVENT
BEGIN:VEVENT
DTSTART;TZID=America/New_York:20250730T110000
DTEND;TZID=America/New_York:20250730T120000
DTSTAMP:20260425T090825
CREATED:20201210T111311Z
LAST-MODIFIED:20201210T111311Z
UID:1389-1753873200-1753876800@tomsriverucc.org
SUMMARY:Book Study
DESCRIPTION:Our weekly book study group takes place every Wednesday at 11:00 am via Zoom! If interested\, please email ucctrofc@comcast.net for Zoom information. \n 
URL:https://tomsriverucc.org/event/bible-study-every-wednesday-2025-06-25-2025-07-30/
LOCATION:NJ
CATEGORIES:UCC Event
END:VEVENT
BEGIN:VEVENT
DTSTART;TZID=America/New_York:20250803T103000
DTEND;TZID=America/New_York:20250803T120000
DTSTAMP:20260425T090825
CREATED:20201229T161416Z
LAST-MODIFIED:20201229T161416Z
UID:1390-1754217000-1754222400@tomsriverucc.org
SUMMARY:Sunday Worship
DESCRIPTION:We hold our Sunday service every Sunday at 10:30 am. We have service in-person and over Zoom. Masks are required to enter the church. If you are interested in attending\, please email ucctrofc@comcast.net for more information. \n 
URL:https://tomsriverucc.org/event/sunday-worship-via-zoom-2025-08-03/
LOCATION:UCC Toms River Church\, 1681 Ridgeway Rd\, 08757\, NJ\, 08757\, United States
CATEGORIES:UCC Event
END:VEVENT
END:VCALENDAR