BEGIN:VCALENDAR
VERSION:2.0
PRODID:-// - ECPv6.13.2.1//NONSGML v1.0//EN
CALSCALE:GREGORIAN
METHOD:PUBLISH
X-ORIGINAL-URL:https://tomsriverucc.org
X-WR-CALDESC:Events for 
REFRESH-INTERVAL;VALUE=DURATION:PT1H
X-Robots-Tag:noindex
X-PUBLISHED-TTL:PT1H
BEGIN:VTIMEZONE
TZID:America/New_York
BEGIN:DAYLIGHT
TZOFFSETFROM:-0500
TZOFFSETTO:-0400
TZNAME:EDT
DTSTART:20250309T070000
END:DAYLIGHT
BEGIN:STANDARD
TZOFFSETFROM:-0400
TZOFFSETTO:-0500
TZNAME:EST
DTSTART:20251102T060000
END:STANDARD
END:VTIMEZONE
BEGIN:VEVENT
DTSTART;TZID=America/New_York:20250903T110000
DTEND;TZID=America/New_York:20250903T120000
DTSTAMP:20260425T090335
CREATED:20201210T111311Z
LAST-MODIFIED:20201210T111311Z
UID:1404-1756897200-1756900800@tomsriverucc.org
SUMMARY:Book Study
DESCRIPTION:Our weekly book study group takes place every Wednesday at 11:00 am via Zoom! If interested\, please email ucctrofc@comcast.net for Zoom information. \n 
URL:https://tomsriverucc.org/event/bible-study-every-wednesday-2025-09-03/
LOCATION:NJ
CATEGORIES:UCC Event
END:VEVENT
BEGIN:VEVENT
DTSTART;TZID=America/New_York:20250903T110000
DTEND;TZID=America/New_York:20250903T120000
DTSTAMP:20260425T090335
CREATED:20201210T111311Z
LAST-MODIFIED:20201210T111311Z
UID:1405-1756897200-1756900800@tomsriverucc.org
SUMMARY:Book Study
DESCRIPTION:Our weekly book study group takes place every Wednesday at 11:00 am via Zoom! If interested\, please email ucctrofc@comcast.net for Zoom information. \n 
URL:https://tomsriverucc.org/event/bible-study-every-wednesday-2025-06-25-2025-09-03/
LOCATION:NJ
CATEGORIES:UCC Event
END:VEVENT
BEGIN:VEVENT
DTSTART;TZID=America/New_York:20250907T103000
DTEND;TZID=America/New_York:20250907T120000
DTSTAMP:20260425T090335
CREATED:20201229T161416Z
LAST-MODIFIED:20201229T161416Z
UID:1406-1757241000-1757246400@tomsriverucc.org
SUMMARY:Sunday Worship
DESCRIPTION:We hold our Sunday service every Sunday at 10:30 am. We have service in-person and over Zoom. Masks are required to enter the church. If you are interested in attending\, please email ucctrofc@comcast.net for more information. \n 
URL:https://tomsriverucc.org/event/sunday-worship-via-zoom-2025-09-07/
LOCATION:UCC Toms River Church\, 1681 Ridgeway Rd\, 08757\, NJ\, 08757\, United States
CATEGORIES:UCC Event
END:VEVENT
BEGIN:VEVENT
DTSTART;TZID=America/New_York:20250910T110000
DTEND;TZID=America/New_York:20250910T120000
DTSTAMP:20260425T090335
CREATED:20201210T111311Z
LAST-MODIFIED:20201210T111311Z
UID:1407-1757502000-1757505600@tomsriverucc.org
SUMMARY:Book Study
DESCRIPTION:Our weekly book study group takes place every Wednesday at 11:00 am via Zoom! If interested\, please email ucctrofc@comcast.net for Zoom information. \n 
URL:https://tomsriverucc.org/event/bible-study-every-wednesday-2025-09-10/
LOCATION:NJ
CATEGORIES:UCC Event
END:VEVENT
BEGIN:VEVENT
DTSTART;TZID=America/New_York:20250910T110000
DTEND;TZID=America/New_York:20250910T120000
DTSTAMP:20260425T090335
CREATED:20201210T111311Z
LAST-MODIFIED:20201210T111311Z
UID:1408-1757502000-1757505600@tomsriverucc.org
SUMMARY:Book Study
DESCRIPTION:Our weekly book study group takes place every Wednesday at 11:00 am via Zoom! If interested\, please email ucctrofc@comcast.net for Zoom information. \n 
URL:https://tomsriverucc.org/event/bible-study-every-wednesday-2025-06-25-2025-09-10/
LOCATION:NJ
CATEGORIES:UCC Event
END:VEVENT
BEGIN:VEVENT
DTSTART;TZID=America/New_York:20250914T103000
DTEND;TZID=America/New_York:20250914T120000
DTSTAMP:20260425T090335
CREATED:20201229T161416Z
LAST-MODIFIED:20201229T161416Z
UID:1409-1757845800-1757851200@tomsriverucc.org
SUMMARY:Sunday Worship
DESCRIPTION:We hold our Sunday service every Sunday at 10:30 am. We have service in-person and over Zoom. Masks are required to enter the church. If you are interested in attending\, please email ucctrofc@comcast.net for more information. \n 
URL:https://tomsriverucc.org/event/sunday-worship-via-zoom-2025-09-14/
LOCATION:UCC Toms River Church\, 1681 Ridgeway Rd\, 08757\, NJ\, 08757\, United States
CATEGORIES:UCC Event
END:VEVENT
BEGIN:VEVENT
DTSTART;TZID=America/New_York:20250917T110000
DTEND;TZID=America/New_York:20250917T120000
DTSTAMP:20260425T090335
CREATED:20201210T111311Z
LAST-MODIFIED:20201210T111311Z
UID:1411-1758106800-1758110400@tomsriverucc.org
SUMMARY:Book Study
DESCRIPTION:Our weekly book study group takes place every Wednesday at 11:00 am via Zoom! If interested\, please email ucctrofc@comcast.net for Zoom information. \n 
URL:https://tomsriverucc.org/event/bible-study-every-wednesday-2025-06-25-2025-09-17/
LOCATION:NJ
CATEGORIES:UCC Event
END:VEVENT
BEGIN:VEVENT
DTSTART;TZID=America/New_York:20250917T110000
DTEND;TZID=America/New_York:20250917T120000
DTSTAMP:20260425T090335
CREATED:20201210T111311Z
LAST-MODIFIED:20201210T111311Z
UID:1410-1758106800-1758110400@tomsriverucc.org
SUMMARY:Book Study
DESCRIPTION:Our weekly book study group takes place every Wednesday at 11:00 am via Zoom! If interested\, please email ucctrofc@comcast.net for Zoom information. \n 
URL:https://tomsriverucc.org/event/bible-study-every-wednesday-2025-09-17/
LOCATION:NJ
CATEGORIES:UCC Event
END:VEVENT
BEGIN:VEVENT
DTSTART;TZID=America/New_York:20250921T103000
DTEND;TZID=America/New_York:20250921T120000
DTSTAMP:20260425T090335
CREATED:20201229T161416Z
LAST-MODIFIED:20201229T161416Z
UID:1412-1758450600-1758456000@tomsriverucc.org
SUMMARY:Sunday Worship
DESCRIPTION:We hold our Sunday service every Sunday at 10:30 am. We have service in-person and over Zoom. Masks are required to enter the church. If you are interested in attending\, please email ucctrofc@comcast.net for more information. \n 
URL:https://tomsriverucc.org/event/sunday-worship-via-zoom-2025-09-21/
LOCATION:UCC Toms River Church\, 1681 Ridgeway Rd\, 08757\, NJ\, 08757\, United States
CATEGORIES:UCC Event
END:VEVENT
BEGIN:VEVENT
DTSTART;TZID=America/New_York:20250924T110000
DTEND;TZID=America/New_York:20250924T120000
DTSTAMP:20260425T090335
CREATED:20201210T111311Z
LAST-MODIFIED:20201210T111311Z
UID:1413-1758711600-1758715200@tomsriverucc.org
SUMMARY:Book Study
DESCRIPTION:Our weekly book study group takes place every Wednesday at 11:00 am via Zoom! If interested\, please email ucctrofc@comcast.net for Zoom information. \n 
URL:https://tomsriverucc.org/event/bible-study-every-wednesday-2025-09-24/
LOCATION:NJ
CATEGORIES:UCC Event
END:VEVENT
BEGIN:VEVENT
DTSTART;TZID=America/New_York:20250924T110000
DTEND;TZID=America/New_York:20250924T120000
DTSTAMP:20260425T090335
CREATED:20201210T111311Z
LAST-MODIFIED:20201210T111311Z
UID:1414-1758711600-1758715200@tomsriverucc.org
SUMMARY:Book Study
DESCRIPTION:Our weekly book study group takes place every Wednesday at 11:00 am via Zoom! If interested\, please email ucctrofc@comcast.net for Zoom information. \n 
URL:https://tomsriverucc.org/event/bible-study-every-wednesday-2025-06-25-2025-09-24/
LOCATION:NJ
CATEGORIES:UCC Event
END:VEVENT
BEGIN:VEVENT
DTSTART;TZID=America/New_York:20250928T103000
DTEND;TZID=America/New_York:20250928T120000
DTSTAMP:20260425T090335
CREATED:20201229T161416Z
LAST-MODIFIED:20201229T161416Z
UID:1416-1759055400-1759060800@tomsriverucc.org
SUMMARY:Sunday Worship
DESCRIPTION:We hold our Sunday service every Sunday at 10:30 am. We have service in-person and over Zoom. Masks are required to enter the church. If you are interested in attending\, please email ucctrofc@comcast.net for more information. \n 
URL:https://tomsriverucc.org/event/sunday-worship-via-zoom-2025-09-28/
LOCATION:UCC Toms River Church\, 1681 Ridgeway Rd\, 08757\, NJ\, 08757\, United States
CATEGORIES:UCC Event
END:VEVENT
BEGIN:VEVENT
DTSTART;TZID=America/New_York:20251001T110000
DTEND;TZID=America/New_York:20251001T120000
DTSTAMP:20260425T090335
CREATED:20201210T111311Z
LAST-MODIFIED:20201210T111311Z
UID:1417-1759316400-1759320000@tomsriverucc.org
SUMMARY:Book Study
DESCRIPTION:Our weekly book study group takes place every Wednesday at 11:00 am via Zoom! If interested\, please email ucctrofc@comcast.net for Zoom information. \n 
URL:https://tomsriverucc.org/event/bible-study-every-wednesday-2025-10-01/
LOCATION:NJ
CATEGORIES:UCC Event
END:VEVENT
BEGIN:VEVENT
DTSTART;TZID=America/New_York:20251001T110000
DTEND;TZID=America/New_York:20251001T120000
DTSTAMP:20260425T090335
CREATED:20201210T111311Z
LAST-MODIFIED:20201210T111311Z
UID:1418-1759316400-1759320000@tomsriverucc.org
SUMMARY:Book Study
DESCRIPTION:Our weekly book study group takes place every Wednesday at 11:00 am via Zoom! If interested\, please email ucctrofc@comcast.net for Zoom information. \n 
URL:https://tomsriverucc.org/event/bible-study-every-wednesday-2025-06-25-2025-10-01/
LOCATION:NJ
CATEGORIES:UCC Event
END:VEVENT
BEGIN:VEVENT
DTSTART;TZID=America/New_York:20251005T103000
DTEND;TZID=America/New_York:20251005T120000
DTSTAMP:20260425T090335
CREATED:20201229T161416Z
LAST-MODIFIED:20201229T161416Z
UID:1419-1759660200-1759665600@tomsriverucc.org
SUMMARY:Sunday Worship
DESCRIPTION:We hold our Sunday service every Sunday at 10:30 am. We have service in-person and over Zoom. Masks are required to enter the church. If you are interested in attending\, please email ucctrofc@comcast.net for more information. \n 
URL:https://tomsriverucc.org/event/sunday-worship-via-zoom-2025-10-05/
LOCATION:UCC Toms River Church\, 1681 Ridgeway Rd\, 08757\, NJ\, 08757\, United States
CATEGORIES:UCC Event
END:VEVENT
BEGIN:VEVENT
DTSTART;TZID=America/New_York:20251008T110000
DTEND;TZID=America/New_York:20251008T120000
DTSTAMP:20260425T090335
CREATED:20201210T111311Z
LAST-MODIFIED:20201210T111311Z
UID:1420-1759921200-1759924800@tomsriverucc.org
SUMMARY:Book Study
DESCRIPTION:Our weekly book study group takes place every Wednesday at 11:00 am via Zoom! If interested\, please email ucctrofc@comcast.net for Zoom information. \n 
URL:https://tomsriverucc.org/event/bible-study-every-wednesday-2025-10-08/
LOCATION:NJ
CATEGORIES:UCC Event
END:VEVENT
BEGIN:VEVENT
DTSTART;TZID=America/New_York:20251008T110000
DTEND;TZID=America/New_York:20251008T120000
DTSTAMP:20260425T090335
CREATED:20201210T111311Z
LAST-MODIFIED:20201210T111311Z
UID:1421-1759921200-1759924800@tomsriverucc.org
SUMMARY:Book Study
DESCRIPTION:Our weekly book study group takes place every Wednesday at 11:00 am via Zoom! If interested\, please email ucctrofc@comcast.net for Zoom information. \n 
URL:https://tomsriverucc.org/event/bible-study-every-wednesday-2025-06-25-2025-10-08/
LOCATION:NJ
CATEGORIES:UCC Event
END:VEVENT
BEGIN:VEVENT
DTSTART;TZID=America/New_York:20251012T103000
DTEND;TZID=America/New_York:20251012T120000
DTSTAMP:20260425T090335
CREATED:20201229T161416Z
LAST-MODIFIED:20201229T161416Z
UID:1422-1760265000-1760270400@tomsriverucc.org
SUMMARY:Sunday Worship
DESCRIPTION:We hold our Sunday service every Sunday at 10:30 am. We have service in-person and over Zoom. Masks are required to enter the church. If you are interested in attending\, please email ucctrofc@comcast.net for more information. \n 
URL:https://tomsriverucc.org/event/sunday-worship-via-zoom-2025-10-12/
LOCATION:UCC Toms River Church\, 1681 Ridgeway Rd\, 08757\, NJ\, 08757\, United States
CATEGORIES:UCC Event
END:VEVENT
BEGIN:VEVENT
DTSTART;TZID=America/New_York:20251015T110000
DTEND;TZID=America/New_York:20251015T120000
DTSTAMP:20260425T090335
CREATED:20201210T111311Z
LAST-MODIFIED:20201210T111311Z
UID:1423-1760526000-1760529600@tomsriverucc.org
SUMMARY:Book Study
DESCRIPTION:Our weekly book study group takes place every Wednesday at 11:00 am via Zoom! If interested\, please email ucctrofc@comcast.net for Zoom information. \n 
URL:https://tomsriverucc.org/event/bible-study-every-wednesday-2025-10-15/
LOCATION:NJ
CATEGORIES:UCC Event
END:VEVENT
BEGIN:VEVENT
DTSTART;TZID=America/New_York:20251015T110000
DTEND;TZID=America/New_York:20251015T120000
DTSTAMP:20260425T090335
CREATED:20201210T111311Z
LAST-MODIFIED:20201210T111311Z
UID:1424-1760526000-1760529600@tomsriverucc.org
SUMMARY:Book Study
DESCRIPTION:Our weekly book study group takes place every Wednesday at 11:00 am via Zoom! If interested\, please email ucctrofc@comcast.net for Zoom information. \n 
URL:https://tomsriverucc.org/event/bible-study-every-wednesday-2025-06-25-2025-10-15/
LOCATION:NJ
CATEGORIES:UCC Event
END:VEVENT
BEGIN:VEVENT
DTSTART;TZID=America/New_York:20251019T103000
DTEND;TZID=America/New_York:20251019T120000
DTSTAMP:20260425T090335
CREATED:20201229T161416Z
LAST-MODIFIED:20201229T161416Z
UID:1425-1760869800-1760875200@tomsriverucc.org
SUMMARY:Sunday Worship
DESCRIPTION:We hold our Sunday service every Sunday at 10:30 am. We have service in-person and over Zoom. Masks are required to enter the church. If you are interested in attending\, please email ucctrofc@comcast.net for more information. \n 
URL:https://tomsriverucc.org/event/sunday-worship-via-zoom-2025-10-19/
LOCATION:UCC Toms River Church\, 1681 Ridgeway Rd\, 08757\, NJ\, 08757\, United States
CATEGORIES:UCC Event
END:VEVENT
BEGIN:VEVENT
DTSTART;TZID=America/New_York:20251022T110000
DTEND;TZID=America/New_York:20251022T120000
DTSTAMP:20260425T090335
CREATED:20201210T111311Z
LAST-MODIFIED:20201210T111311Z
UID:1426-1761130800-1761134400@tomsriverucc.org
SUMMARY:Book Study
DESCRIPTION:Our weekly book study group takes place every Wednesday at 11:00 am via Zoom! If interested\, please email ucctrofc@comcast.net for Zoom information. \n 
URL:https://tomsriverucc.org/event/bible-study-every-wednesday-2025-10-22/
LOCATION:NJ
CATEGORIES:UCC Event
END:VEVENT
BEGIN:VEVENT
DTSTART;TZID=America/New_York:20251022T110000
DTEND;TZID=America/New_York:20251022T120000
DTSTAMP:20260425T090335
CREATED:20201210T111311Z
LAST-MODIFIED:20201210T111311Z
UID:1427-1761130800-1761134400@tomsriverucc.org
SUMMARY:Book Study
DESCRIPTION:Our weekly book study group takes place every Wednesday at 11:00 am via Zoom! If interested\, please email ucctrofc@comcast.net for Zoom information. \n 
URL:https://tomsriverucc.org/event/bible-study-every-wednesday-2025-06-25-2025-10-22/
LOCATION:NJ
CATEGORIES:UCC Event
END:VEVENT
BEGIN:VEVENT
DTSTART;TZID=America/New_York:20251026T103000
DTEND;TZID=America/New_York:20251026T120000
DTSTAMP:20260425T090335
CREATED:20201229T161416Z
LAST-MODIFIED:20201229T161416Z
UID:1438-1761474600-1761480000@tomsriverucc.org
SUMMARY:Sunday Worship
DESCRIPTION:We hold our Sunday service every Sunday at 10:30 am. We have service in-person and over Zoom. Masks are required to enter the church. If you are interested in attending\, please email ucctrofc@comcast.net for more information. \n 
URL:https://tomsriverucc.org/event/sunday-worship-via-zoom-2025-10-26/
LOCATION:UCC Toms River Church\, 1681 Ridgeway Rd\, 08757\, NJ\, 08757\, United States
CATEGORIES:UCC Event
END:VEVENT
BEGIN:VEVENT
DTSTART;TZID=America/New_York:20251029T110000
DTEND;TZID=America/New_York:20251029T120000
DTSTAMP:20260425T090335
CREATED:20201210T111311Z
LAST-MODIFIED:20201210T111311Z
UID:1439-1761735600-1761739200@tomsriverucc.org
SUMMARY:Book Study
DESCRIPTION:Our weekly book study group takes place every Wednesday at 11:00 am via Zoom! If interested\, please email ucctrofc@comcast.net for Zoom information. \n 
URL:https://tomsriverucc.org/event/bible-study-every-wednesday-2025-10-29/
LOCATION:NJ
CATEGORIES:UCC Event
END:VEVENT
BEGIN:VEVENT
DTSTART;TZID=America/New_York:20251029T110000
DTEND;TZID=America/New_York:20251029T120000
DTSTAMP:20260425T090335
CREATED:20201210T111311Z
LAST-MODIFIED:20201210T111311Z
UID:1440-1761735600-1761739200@tomsriverucc.org
SUMMARY:Book Study
DESCRIPTION:Our weekly book study group takes place every Wednesday at 11:00 am via Zoom! If interested\, please email ucctrofc@comcast.net for Zoom information. \n 
URL:https://tomsriverucc.org/event/bible-study-every-wednesday-2025-06-25-2025-10-29/
LOCATION:NJ
CATEGORIES:UCC Event
END:VEVENT
BEGIN:VEVENT
DTSTART;TZID=America/New_York:20251102T103000
DTEND;TZID=America/New_York:20251102T120000
DTSTAMP:20260425T090335
CREATED:20201229T161416Z
LAST-MODIFIED:20201229T161416Z
UID:1441-1762079400-1762084800@tomsriverucc.org
SUMMARY:Sunday Worship
DESCRIPTION:We hold our Sunday service every Sunday at 10:30 am. We have service in-person and over Zoom. Masks are required to enter the church. If you are interested in attending\, please email ucctrofc@comcast.net for more information. \n 
URL:https://tomsriverucc.org/event/sunday-worship-via-zoom-2025-11-02/
LOCATION:UCC Toms River Church\, 1681 Ridgeway Rd\, 08757\, NJ\, 08757\, United States
CATEGORIES:UCC Event
END:VEVENT
BEGIN:VEVENT
DTSTART;TZID=America/New_York:20251105T110000
DTEND;TZID=America/New_York:20251105T120000
DTSTAMP:20260425T090335
CREATED:20201210T111311Z
LAST-MODIFIED:20201210T111311Z
UID:1442-1762340400-1762344000@tomsriverucc.org
SUMMARY:Book Study
DESCRIPTION:Our weekly book study group takes place every Wednesday at 11:00 am via Zoom! If interested\, please email ucctrofc@comcast.net for Zoom information. \n 
URL:https://tomsriverucc.org/event/bible-study-every-wednesday-2025-11-05/
LOCATION:NJ
CATEGORIES:UCC Event
END:VEVENT
BEGIN:VEVENT
DTSTART;TZID=America/New_York:20251105T110000
DTEND;TZID=America/New_York:20251105T120000
DTSTAMP:20260425T090335
CREATED:20201210T111311Z
LAST-MODIFIED:20201210T111311Z
UID:1443-1762340400-1762344000@tomsriverucc.org
SUMMARY:Book Study
DESCRIPTION:Our weekly book study group takes place every Wednesday at 11:00 am via Zoom! If interested\, please email ucctrofc@comcast.net for Zoom information. \n 
URL:https://tomsriverucc.org/event/bible-study-every-wednesday-2025-06-25-2025-11-05/
LOCATION:NJ
CATEGORIES:UCC Event
END:VEVENT
BEGIN:VEVENT
DTSTART;TZID=America/New_York:20251109T103000
DTEND;TZID=America/New_York:20251109T120000
DTSTAMP:20260425T090335
CREATED:20201229T161416Z
LAST-MODIFIED:20201229T161416Z
UID:1444-1762684200-1762689600@tomsriverucc.org
SUMMARY:Sunday Worship
DESCRIPTION:We hold our Sunday service every Sunday at 10:30 am. We have service in-person and over Zoom. Masks are required to enter the church. If you are interested in attending\, please email ucctrofc@comcast.net for more information. \n 
URL:https://tomsriverucc.org/event/sunday-worship-via-zoom-2025-11-09/
LOCATION:UCC Toms River Church\, 1681 Ridgeway Rd\, 08757\, NJ\, 08757\, United States
CATEGORIES:UCC Event
END:VEVENT
END:VCALENDAR