BEGIN:VCALENDAR
VERSION:2.0
PRODID:-// - ECPv6.13.2.1//NONSGML v1.0//EN
CALSCALE:GREGORIAN
METHOD:PUBLISH
X-ORIGINAL-URL:https://tomsriverucc.org
X-WR-CALDESC:Events for 
REFRESH-INTERVAL;VALUE=DURATION:PT1H
X-Robots-Tag:noindex
X-PUBLISHED-TTL:PT1H
BEGIN:VTIMEZONE
TZID:America/New_York
BEGIN:DAYLIGHT
TZOFFSETFROM:-0500
TZOFFSETTO:-0400
TZNAME:EDT
DTSTART:20240310T070000
END:DAYLIGHT
BEGIN:STANDARD
TZOFFSETFROM:-0400
TZOFFSETTO:-0500
TZNAME:EST
DTSTART:20241103T060000
END:STANDARD
BEGIN:DAYLIGHT
TZOFFSETFROM:-0500
TZOFFSETTO:-0400
TZNAME:EDT
DTSTART:20250309T070000
END:DAYLIGHT
BEGIN:STANDARD
TZOFFSETFROM:-0400
TZOFFSETTO:-0500
TZNAME:EST
DTSTART:20251102T060000
END:STANDARD
END:VTIMEZONE
BEGIN:VEVENT
DTSTART;TZID=America/New_York:20250202T103000
DTEND;TZID=America/New_York:20250202T120000
DTSTAMP:20260424T105249
CREATED:20201229T161416Z
LAST-MODIFIED:20201229T161416Z
UID:1271-1738492200-1738497600@tomsriverucc.org
SUMMARY:Sunday Worship
DESCRIPTION:We hold our Sunday service every Sunday at 10:30 am. We have service in-person and over Zoom. Masks are required to enter the church. If you are interested in attending\, please email ucctrofc@comcast.net for more information. \n 
URL:https://tomsriverucc.org/event/sunday-worship-via-zoom-2025-02-02/
LOCATION:UCC Toms River Church\, 1681 Ridgeway Rd\, 08757\, NJ\, 08757\, United States
CATEGORIES:UCC Event
END:VEVENT
BEGIN:VEVENT
DTSTART;TZID=America/New_York:20250129T110000
DTEND;TZID=America/New_York:20250129T120000
DTSTAMP:20260424T105249
CREATED:20201210T111311Z
LAST-MODIFIED:20201210T111311Z
UID:1259-1738148400-1738152000@tomsriverucc.org
SUMMARY:Book Study
DESCRIPTION:Our weekly book study group takes place every Wednesday at 11:00 am via Zoom! If interested\, please email ucctrofc@comcast.net for Zoom information. \n 
URL:https://tomsriverucc.org/event/bible-study-every-wednesday-2025-01-29/
LOCATION:NJ
CATEGORIES:UCC Event
END:VEVENT
BEGIN:VEVENT
DTSTART;TZID=America/New_York:20250126T103000
DTEND;TZID=America/New_York:20250126T120000
DTSTAMP:20260424T105249
CREATED:20201229T161416Z
LAST-MODIFIED:20201229T161416Z
UID:1258-1737887400-1737892800@tomsriverucc.org
SUMMARY:Sunday Worship
DESCRIPTION:We hold our Sunday service every Sunday at 10:30 am. We have service in-person and over Zoom. Masks are required to enter the church. If you are interested in attending\, please email ucctrofc@comcast.net for more information. \n 
URL:https://tomsriverucc.org/event/sunday-worship-via-zoom-2025-01-26/
LOCATION:UCC Toms River Church\, 1681 Ridgeway Rd\, 08757\, NJ\, 08757\, United States
CATEGORIES:UCC Event
END:VEVENT
BEGIN:VEVENT
DTSTART;TZID=America/New_York:20250122T110000
DTEND;TZID=America/New_York:20250122T120000
DTSTAMP:20260424T105249
CREATED:20201210T111311Z
LAST-MODIFIED:20201210T111311Z
UID:1257-1737543600-1737547200@tomsriverucc.org
SUMMARY:Book Study
DESCRIPTION:Our weekly book study group takes place every Wednesday at 11:00 am via Zoom! If interested\, please email ucctrofc@comcast.net for Zoom information. \n 
URL:https://tomsriverucc.org/event/bible-study-every-wednesday-2025-01-22/
LOCATION:NJ
CATEGORIES:UCC Event
END:VEVENT
BEGIN:VEVENT
DTSTART;TZID=America/New_York:20250119T103000
DTEND;TZID=America/New_York:20250119T120000
DTSTAMP:20260424T105249
CREATED:20201229T161416Z
LAST-MODIFIED:20201229T161416Z
UID:1256-1737282600-1737288000@tomsriverucc.org
SUMMARY:Sunday Worship
DESCRIPTION:We hold our Sunday service every Sunday at 10:30 am. We have service in-person and over Zoom. Masks are required to enter the church. If you are interested in attending\, please email ucctrofc@comcast.net for more information. \n 
URL:https://tomsriverucc.org/event/sunday-worship-via-zoom-2025-01-19/
LOCATION:UCC Toms River Church\, 1681 Ridgeway Rd\, 08757\, NJ\, 08757\, United States
CATEGORIES:UCC Event
END:VEVENT
BEGIN:VEVENT
DTSTART;TZID=America/New_York:20250115T110000
DTEND;TZID=America/New_York:20250115T120000
DTSTAMP:20260424T105249
CREATED:20201210T111311Z
LAST-MODIFIED:20201210T111311Z
UID:1255-1736938800-1736942400@tomsriverucc.org
SUMMARY:Book Study
DESCRIPTION:Our weekly book study group takes place every Wednesday at 11:00 am via Zoom! If interested\, please email ucctrofc@comcast.net for Zoom information. \n 
URL:https://tomsriverucc.org/event/bible-study-every-wednesday-2025-01-15/
LOCATION:NJ
CATEGORIES:UCC Event
END:VEVENT
BEGIN:VEVENT
DTSTART;TZID=America/New_York:20250112T103000
DTEND;TZID=America/New_York:20250112T120000
DTSTAMP:20260424T105249
CREATED:20201229T161416Z
LAST-MODIFIED:20201229T161416Z
UID:1254-1736677800-1736683200@tomsriverucc.org
SUMMARY:Sunday Worship
DESCRIPTION:We hold our Sunday service every Sunday at 10:30 am. We have service in-person and over Zoom. Masks are required to enter the church. If you are interested in attending\, please email ucctrofc@comcast.net for more information. \n 
URL:https://tomsriverucc.org/event/sunday-worship-via-zoom-2025-01-12/
LOCATION:UCC Toms River Church\, 1681 Ridgeway Rd\, 08757\, NJ\, 08757\, United States
CATEGORIES:UCC Event
END:VEVENT
BEGIN:VEVENT
DTSTART;TZID=America/New_York:20250108T110000
DTEND;TZID=America/New_York:20250108T120000
DTSTAMP:20260424T105249
CREATED:20201210T111311Z
LAST-MODIFIED:20201210T111311Z
UID:1253-1736334000-1736337600@tomsriverucc.org
SUMMARY:Book Study
DESCRIPTION:Our weekly book study group takes place every Wednesday at 11:00 am via Zoom! If interested\, please email ucctrofc@comcast.net for Zoom information. \n 
URL:https://tomsriverucc.org/event/bible-study-every-wednesday-2025-01-08/
LOCATION:NJ
CATEGORIES:UCC Event
END:VEVENT
BEGIN:VEVENT
DTSTART;TZID=America/New_York:20250105T103000
DTEND;TZID=America/New_York:20250105T120000
DTSTAMP:20260424T105249
CREATED:20201229T161416Z
LAST-MODIFIED:20201229T161416Z
UID:1252-1736073000-1736078400@tomsriverucc.org
SUMMARY:Sunday Worship
DESCRIPTION:We hold our Sunday service every Sunday at 10:30 am. We have service in-person and over Zoom. Masks are required to enter the church. If you are interested in attending\, please email ucctrofc@comcast.net for more information. \n 
URL:https://tomsriverucc.org/event/sunday-worship-via-zoom-2025-01-05/
LOCATION:UCC Toms River Church\, 1681 Ridgeway Rd\, 08757\, NJ\, 08757\, United States
CATEGORIES:UCC Event
END:VEVENT
BEGIN:VEVENT
DTSTART;TZID=America/New_York:20250101T110000
DTEND;TZID=America/New_York:20250101T120000
DTSTAMP:20260424T105249
CREATED:20201210T111311Z
LAST-MODIFIED:20201210T111311Z
UID:1250-1735729200-1735732800@tomsriverucc.org
SUMMARY:Book Study
DESCRIPTION:Our weekly book study group takes place every Wednesday at 11:00 am via Zoom! If interested\, please email ucctrofc@comcast.net for Zoom information. \n 
URL:https://tomsriverucc.org/event/bible-study-every-wednesday-2025-01-01/
LOCATION:NJ
CATEGORIES:UCC Event
END:VEVENT
BEGIN:VEVENT
DTSTART;TZID=America/New_York:20241229T103000
DTEND;TZID=America/New_York:20241229T120000
DTSTAMP:20260424T105249
CREATED:20201229T161416Z
LAST-MODIFIED:20201229T161416Z
UID:1249-1735468200-1735473600@tomsriverucc.org
SUMMARY:Sunday Worship
DESCRIPTION:We hold our Sunday service every Sunday at 10:30 am. We have service in-person and over Zoom. Masks are required to enter the church. If you are interested in attending\, please email ucctrofc@comcast.net for more information. \n 
URL:https://tomsriverucc.org/event/sunday-worship-via-zoom-2024-12-29/
LOCATION:UCC Toms River Church\, 1681 Ridgeway Rd\, 08757\, NJ\, 08757\, United States
CATEGORIES:UCC Event
END:VEVENT
BEGIN:VEVENT
DTSTART;TZID=America/New_York:20241225T110000
DTEND;TZID=America/New_York:20241225T120000
DTSTAMP:20260424T105249
CREATED:20201210T111311Z
LAST-MODIFIED:20201210T111311Z
UID:1248-1735124400-1735128000@tomsriverucc.org
SUMMARY:Book Study
DESCRIPTION:Our weekly book study group takes place every Wednesday at 11:00 am via Zoom! If interested\, please email ucctrofc@comcast.net for Zoom information. \n 
URL:https://tomsriverucc.org/event/bible-study-every-wednesday-2024-12-25/
LOCATION:NJ
CATEGORIES:UCC Event
END:VEVENT
BEGIN:VEVENT
DTSTART;TZID=America/New_York:20241222T103000
DTEND;TZID=America/New_York:20241222T120000
DTSTAMP:20260424T105249
CREATED:20201229T161416Z
LAST-MODIFIED:20201229T161416Z
UID:1247-1734863400-1734868800@tomsriverucc.org
SUMMARY:Sunday Worship
DESCRIPTION:We hold our Sunday service every Sunday at 10:30 am. We have service in-person and over Zoom. Masks are required to enter the church. If you are interested in attending\, please email ucctrofc@comcast.net for more information. \n 
URL:https://tomsriverucc.org/event/sunday-worship-via-zoom-2024-12-22/
LOCATION:UCC Toms River Church\, 1681 Ridgeway Rd\, 08757\, NJ\, 08757\, United States
CATEGORIES:UCC Event
END:VEVENT
BEGIN:VEVENT
DTSTART;TZID=America/New_York:20241218T110000
DTEND;TZID=America/New_York:20241218T120000
DTSTAMP:20260424T105249
CREATED:20201210T111311Z
LAST-MODIFIED:20201210T111311Z
UID:1246-1734519600-1734523200@tomsriverucc.org
SUMMARY:Book Study
DESCRIPTION:Our weekly book study group takes place every Wednesday at 11:00 am via Zoom! If interested\, please email ucctrofc@comcast.net for Zoom information. \n 
URL:https://tomsriverucc.org/event/bible-study-every-wednesday-2024-12-18/
LOCATION:NJ
CATEGORIES:UCC Event
END:VEVENT
BEGIN:VEVENT
DTSTART;TZID=America/New_York:20241215T103000
DTEND;TZID=America/New_York:20241215T120000
DTSTAMP:20260424T105249
CREATED:20201229T161416Z
LAST-MODIFIED:20201229T161416Z
UID:1245-1734258600-1734264000@tomsriverucc.org
SUMMARY:Sunday Worship
DESCRIPTION:We hold our Sunday service every Sunday at 10:30 am. We have service in-person and over Zoom. Masks are required to enter the church. If you are interested in attending\, please email ucctrofc@comcast.net for more information. \n 
URL:https://tomsriverucc.org/event/sunday-worship-via-zoom-2024-12-15/
LOCATION:UCC Toms River Church\, 1681 Ridgeway Rd\, 08757\, NJ\, 08757\, United States
CATEGORIES:UCC Event
END:VEVENT
BEGIN:VEVENT
DTSTART;TZID=America/New_York:20241211T110000
DTEND;TZID=America/New_York:20241211T120000
DTSTAMP:20260424T105249
CREATED:20201210T111311Z
LAST-MODIFIED:20201210T111311Z
UID:1244-1733914800-1733918400@tomsriverucc.org
SUMMARY:Book Study
DESCRIPTION:Our weekly book study group takes place every Wednesday at 11:00 am via Zoom! If interested\, please email ucctrofc@comcast.net for Zoom information. \n 
URL:https://tomsriverucc.org/event/bible-study-every-wednesday-2024-12-11/
LOCATION:NJ
CATEGORIES:UCC Event
END:VEVENT
BEGIN:VEVENT
DTSTART;TZID=America/New_York:20241208T103000
DTEND;TZID=America/New_York:20241208T120000
DTSTAMP:20260424T105249
CREATED:20201229T161416Z
LAST-MODIFIED:20201229T161416Z
UID:1243-1733653800-1733659200@tomsriverucc.org
SUMMARY:Sunday Worship
DESCRIPTION:We hold our Sunday service every Sunday at 10:30 am. We have service in-person and over Zoom. Masks are required to enter the church. If you are interested in attending\, please email ucctrofc@comcast.net for more information. \n 
URL:https://tomsriverucc.org/event/sunday-worship-via-zoom-2024-12-08/
LOCATION:UCC Toms River Church\, 1681 Ridgeway Rd\, 08757\, NJ\, 08757\, United States
CATEGORIES:UCC Event
END:VEVENT
BEGIN:VEVENT
DTSTART;TZID=America/New_York:20241204T110000
DTEND;TZID=America/New_York:20241204T120000
DTSTAMP:20260424T105249
CREATED:20201210T111311Z
LAST-MODIFIED:20201210T111311Z
UID:1232-1733310000-1733313600@tomsriverucc.org
SUMMARY:Book Study
DESCRIPTION:Our weekly book study group takes place every Wednesday at 11:00 am via Zoom! If interested\, please email ucctrofc@comcast.net for Zoom information. \n 
URL:https://tomsriverucc.org/event/bible-study-every-wednesday-2024-12-04/
LOCATION:NJ
CATEGORIES:UCC Event
END:VEVENT
BEGIN:VEVENT
DTSTART;TZID=America/New_York:20241201T103000
DTEND;TZID=America/New_York:20241201T120000
DTSTAMP:20260424T105249
CREATED:20201229T161416Z
LAST-MODIFIED:20201229T161416Z
UID:1231-1733049000-1733054400@tomsriverucc.org
SUMMARY:Sunday Worship
DESCRIPTION:We hold our Sunday service every Sunday at 10:30 am. We have service in-person and over Zoom. Masks are required to enter the church. If you are interested in attending\, please email ucctrofc@comcast.net for more information. \n 
URL:https://tomsriverucc.org/event/sunday-worship-via-zoom-2024-12-01/
LOCATION:UCC Toms River Church\, 1681 Ridgeway Rd\, 08757\, NJ\, 08757\, United States
CATEGORIES:UCC Event
END:VEVENT
BEGIN:VEVENT
DTSTART;TZID=America/New_York:20241127T110000
DTEND;TZID=America/New_York:20241127T120000
DTSTAMP:20260424T105249
CREATED:20201210T111311Z
LAST-MODIFIED:20201210T111311Z
UID:1230-1732705200-1732708800@tomsriverucc.org
SUMMARY:Book Study
DESCRIPTION:Our weekly book study group takes place every Wednesday at 11:00 am via Zoom! If interested\, please email ucctrofc@comcast.net for Zoom information. \n 
URL:https://tomsriverucc.org/event/bible-study-every-wednesday-2024-11-27/
LOCATION:NJ
CATEGORIES:UCC Event
END:VEVENT
BEGIN:VEVENT
DTSTART;TZID=America/New_York:20241124T103000
DTEND;TZID=America/New_York:20241124T120000
DTSTAMP:20260424T105249
CREATED:20201229T161416Z
LAST-MODIFIED:20201229T161416Z
UID:1229-1732444200-1732449600@tomsriverucc.org
SUMMARY:Sunday Worship
DESCRIPTION:We hold our Sunday service every Sunday at 10:30 am. We have service in-person and over Zoom. Masks are required to enter the church. If you are interested in attending\, please email ucctrofc@comcast.net for more information. \n 
URL:https://tomsriverucc.org/event/sunday-worship-via-zoom-2024-11-24/
LOCATION:UCC Toms River Church\, 1681 Ridgeway Rd\, 08757\, NJ\, 08757\, United States
CATEGORIES:UCC Event
END:VEVENT
BEGIN:VEVENT
DTSTART;TZID=America/New_York:20241120T110000
DTEND;TZID=America/New_York:20241120T120000
DTSTAMP:20260424T105249
CREATED:20201210T111311Z
LAST-MODIFIED:20201210T111311Z
UID:1228-1732100400-1732104000@tomsriverucc.org
SUMMARY:Book Study
DESCRIPTION:Our weekly book study group takes place every Wednesday at 11:00 am via Zoom! If interested\, please email ucctrofc@comcast.net for Zoom information. \n 
URL:https://tomsriverucc.org/event/bible-study-every-wednesday-2024-11-20/
LOCATION:NJ
CATEGORIES:UCC Event
END:VEVENT
BEGIN:VEVENT
DTSTART;TZID=America/New_York:20241117T103000
DTEND;TZID=America/New_York:20241117T120000
DTSTAMP:20260424T105249
CREATED:20201229T161416Z
LAST-MODIFIED:20201229T161416Z
UID:1227-1731839400-1731844800@tomsriverucc.org
SUMMARY:Sunday Worship
DESCRIPTION:We hold our Sunday service every Sunday at 10:30 am. We have service in-person and over Zoom. Masks are required to enter the church. If you are interested in attending\, please email ucctrofc@comcast.net for more information. \n 
URL:https://tomsriverucc.org/event/sunday-worship-via-zoom-2024-11-17/
LOCATION:UCC Toms River Church\, 1681 Ridgeway Rd\, 08757\, NJ\, 08757\, United States
CATEGORIES:UCC Event
END:VEVENT
BEGIN:VEVENT
DTSTART;TZID=America/New_York:20241113T110000
DTEND;TZID=America/New_York:20241113T120000
DTSTAMP:20260424T105249
CREATED:20201210T111311Z
LAST-MODIFIED:20201210T111311Z
UID:1226-1731495600-1731499200@tomsriverucc.org
SUMMARY:Book Study
DESCRIPTION:Our weekly book study group takes place every Wednesday at 11:00 am via Zoom! If interested\, please email ucctrofc@comcast.net for Zoom information. \n 
URL:https://tomsriverucc.org/event/bible-study-every-wednesday-2024-11-13/
LOCATION:NJ
CATEGORIES:UCC Event
END:VEVENT
BEGIN:VEVENT
DTSTART;TZID=America/New_York:20241110T103000
DTEND;TZID=America/New_York:20241110T120000
DTSTAMP:20260424T105249
CREATED:20201229T161416Z
LAST-MODIFIED:20201229T161416Z
UID:1225-1731234600-1731240000@tomsriverucc.org
SUMMARY:Sunday Worship
DESCRIPTION:We hold our Sunday service every Sunday at 10:30 am. We have service in-person and over Zoom. Masks are required to enter the church. If you are interested in attending\, please email ucctrofc@comcast.net for more information. \n 
URL:https://tomsriverucc.org/event/sunday-worship-via-zoom-2024-11-10/
LOCATION:UCC Toms River Church\, 1681 Ridgeway Rd\, 08757\, NJ\, 08757\, United States
CATEGORIES:UCC Event
END:VEVENT
BEGIN:VEVENT
DTSTART;TZID=America/New_York:20241106T110000
DTEND;TZID=America/New_York:20241106T120000
DTSTAMP:20260424T105249
CREATED:20201210T111311Z
LAST-MODIFIED:20201210T111311Z
UID:1221-1730890800-1730894400@tomsriverucc.org
SUMMARY:Book Study
DESCRIPTION:Our weekly book study group takes place every Wednesday at 11:00 am via Zoom! If interested\, please email ucctrofc@comcast.net for Zoom information. \n 
URL:https://tomsriverucc.org/event/bible-study-every-wednesday-2024-11-06/
LOCATION:NJ
CATEGORIES:UCC Event
END:VEVENT
BEGIN:VEVENT
DTSTART;TZID=America/New_York:20241103T103000
DTEND;TZID=America/New_York:20241103T120000
DTSTAMP:20260424T105249
CREATED:20201229T161416Z
LAST-MODIFIED:20201229T161416Z
UID:1220-1730629800-1730635200@tomsriverucc.org
SUMMARY:Sunday Worship
DESCRIPTION:We hold our Sunday service every Sunday at 10:30 am. We have service in-person and over Zoom. Masks are required to enter the church. If you are interested in attending\, please email ucctrofc@comcast.net for more information. \n 
URL:https://tomsriverucc.org/event/sunday-worship-via-zoom-2024-11-03/
LOCATION:UCC Toms River Church\, 1681 Ridgeway Rd\, 08757\, NJ\, 08757\, United States
CATEGORIES:UCC Event
END:VEVENT
BEGIN:VEVENT
DTSTART;TZID=America/New_York:20241030T110000
DTEND;TZID=America/New_York:20241030T120000
DTSTAMP:20260424T105249
CREATED:20201210T111311Z
LAST-MODIFIED:20201210T111311Z
UID:1218-1730286000-1730289600@tomsriverucc.org
SUMMARY:Book Study
DESCRIPTION:Our weekly book study group takes place every Wednesday at 11:00 am via Zoom! If interested\, please email ucctrofc@comcast.net for Zoom information. \n 
URL:https://tomsriverucc.org/event/bible-study-every-wednesday-2024-10-30/
LOCATION:NJ
CATEGORIES:UCC Event
END:VEVENT
BEGIN:VEVENT
DTSTART;TZID=America/New_York:20241027T103000
DTEND;TZID=America/New_York:20241027T120000
DTSTAMP:20260424T105249
CREATED:20201229T161416Z
LAST-MODIFIED:20201229T161416Z
UID:1217-1730025000-1730030400@tomsriverucc.org
SUMMARY:Sunday Worship
DESCRIPTION:We hold our Sunday service every Sunday at 10:30 am. We have service in-person and over Zoom. Masks are required to enter the church. If you are interested in attending\, please email ucctrofc@comcast.net for more information. \n 
URL:https://tomsriverucc.org/event/sunday-worship-via-zoom-2024-10-27/
LOCATION:UCC Toms River Church\, 1681 Ridgeway Rd\, 08757\, NJ\, 08757\, United States
CATEGORIES:UCC Event
END:VEVENT
BEGIN:VEVENT
DTSTART;TZID=America/New_York:20241023T110000
DTEND;TZID=America/New_York:20241023T120000
DTSTAMP:20260424T105249
CREATED:20201210T111311Z
LAST-MODIFIED:20201210T111311Z
UID:1216-1729681200-1729684800@tomsriverucc.org
SUMMARY:Book Study
DESCRIPTION:Our weekly book study group takes place every Wednesday at 11:00 am via Zoom! If interested\, please email ucctrofc@comcast.net for Zoom information. \n 
URL:https://tomsriverucc.org/event/bible-study-every-wednesday-2024-10-23/
LOCATION:NJ
CATEGORIES:UCC Event
END:VEVENT
END:VCALENDAR