BEGIN:VCALENDAR
VERSION:2.0
PRODID:-// - ECPv6.13.2.1//NONSGML v1.0//EN
CALSCALE:GREGORIAN
METHOD:PUBLISH
X-ORIGINAL-URL:https://tomsriverucc.org
X-WR-CALDESC:Events for 
REFRESH-INTERVAL;VALUE=DURATION:PT1H
X-Robots-Tag:noindex
X-PUBLISHED-TTL:PT1H
BEGIN:VTIMEZONE
TZID:America/New_York
BEGIN:DAYLIGHT
TZOFFSETFROM:-0500
TZOFFSETTO:-0400
TZNAME:EDT
DTSTART:20250309T070000
END:DAYLIGHT
BEGIN:STANDARD
TZOFFSETFROM:-0400
TZOFFSETTO:-0500
TZNAME:EST
DTSTART:20251102T060000
END:STANDARD
BEGIN:DAYLIGHT
TZOFFSETFROM:-0500
TZOFFSETTO:-0400
TZNAME:EDT
DTSTART:20260308T070000
END:DAYLIGHT
BEGIN:STANDARD
TZOFFSETFROM:-0400
TZOFFSETTO:-0500
TZNAME:EST
DTSTART:20261101T060000
END:STANDARD
END:VTIMEZONE
BEGIN:VEVENT
DTSTART;TZID=America/New_York:20260121T110000
DTEND;TZID=America/New_York:20260121T120000
DTSTAMP:20260423T171435
CREATED:20201210T111311Z
LAST-MODIFIED:20201210T111311Z
UID:1511-1768993200-1768996800@tomsriverucc.org
SUMMARY:Book Study
DESCRIPTION:Our weekly book study group takes place every Wednesday at 11:00 am via Zoom! If interested\, please email ucctrofc@comcast.net for Zoom information. \n 
URL:https://tomsriverucc.org/event/bible-study-every-wednesday-2026-01-21/
LOCATION:NJ
CATEGORIES:UCC Event
END:VEVENT
BEGIN:VEVENT
DTSTART;TZID=America/New_York:20260121T110000
DTEND;TZID=America/New_York:20260121T120000
DTSTAMP:20260423T171435
CREATED:20201210T111311Z
LAST-MODIFIED:20201210T111311Z
UID:1512-1768993200-1768996800@tomsriverucc.org
SUMMARY:Book Study
DESCRIPTION:Our weekly book study group takes place every Wednesday at 11:00 am via Zoom! If interested\, please email ucctrofc@comcast.net for Zoom information. \n 
URL:https://tomsriverucc.org/event/bible-study-every-wednesday-2025-06-25-2026-01-21/
LOCATION:NJ
CATEGORIES:UCC Event
END:VEVENT
BEGIN:VEVENT
DTSTART;TZID=America/New_York:20260118T103000
DTEND;TZID=America/New_York:20260118T120000
DTSTAMP:20260423T171435
CREATED:20201229T161416Z
LAST-MODIFIED:20201229T161416Z
UID:1510-1768732200-1768737600@tomsriverucc.org
SUMMARY:Sunday Worship
DESCRIPTION:We hold our Sunday service every Sunday at 10:30 am. We have service in-person and over Zoom. Masks are required to enter the church. If you are interested in attending\, please email ucctrofc@comcast.net for more information. \n 
URL:https://tomsriverucc.org/event/sunday-worship-via-zoom-2026-01-18/
LOCATION:UCC Toms River Church\, 1681 Ridgeway Rd\, 08757\, NJ\, 08757\, United States
CATEGORIES:UCC Event
END:VEVENT
BEGIN:VEVENT
DTSTART;TZID=America/New_York:20260114T110000
DTEND;TZID=America/New_York:20260114T120000
DTSTAMP:20260423T171435
CREATED:20201210T111311Z
LAST-MODIFIED:20201210T111311Z
UID:1508-1768388400-1768392000@tomsriverucc.org
SUMMARY:Book Study
DESCRIPTION:Our weekly book study group takes place every Wednesday at 11:00 am via Zoom! If interested\, please email ucctrofc@comcast.net for Zoom information. \n 
URL:https://tomsriverucc.org/event/bible-study-every-wednesday-2026-01-14/
LOCATION:NJ
CATEGORIES:UCC Event
END:VEVENT
BEGIN:VEVENT
DTSTART;TZID=America/New_York:20260114T110000
DTEND;TZID=America/New_York:20260114T120000
DTSTAMP:20260423T171435
CREATED:20201210T111311Z
LAST-MODIFIED:20201210T111311Z
UID:1509-1768388400-1768392000@tomsriverucc.org
SUMMARY:Book Study
DESCRIPTION:Our weekly book study group takes place every Wednesday at 11:00 am via Zoom! If interested\, please email ucctrofc@comcast.net for Zoom information. \n 
URL:https://tomsriverucc.org/event/bible-study-every-wednesday-2025-06-25-2026-01-14/
LOCATION:NJ
CATEGORIES:UCC Event
END:VEVENT
BEGIN:VEVENT
DTSTART;TZID=America/New_York:20260111T103000
DTEND;TZID=America/New_York:20260111T120000
DTSTAMP:20260423T171435
CREATED:20201229T161416Z
LAST-MODIFIED:20201229T161416Z
UID:1507-1768127400-1768132800@tomsriverucc.org
SUMMARY:Sunday Worship
DESCRIPTION:We hold our Sunday service every Sunday at 10:30 am. We have service in-person and over Zoom. Masks are required to enter the church. If you are interested in attending\, please email ucctrofc@comcast.net for more information. \n 
URL:https://tomsriverucc.org/event/sunday-worship-via-zoom-2026-01-11/
LOCATION:UCC Toms River Church\, 1681 Ridgeway Rd\, 08757\, NJ\, 08757\, United States
CATEGORIES:UCC Event
END:VEVENT
BEGIN:VEVENT
DTSTART;TZID=America/New_York:20260107T110000
DTEND;TZID=America/New_York:20260107T120000
DTSTAMP:20260423T171435
CREATED:20201210T111311Z
LAST-MODIFIED:20201210T111311Z
UID:1503-1767783600-1767787200@tomsriverucc.org
SUMMARY:Book Study
DESCRIPTION:Our weekly book study group takes place every Wednesday at 11:00 am via Zoom! If interested\, please email ucctrofc@comcast.net for Zoom information. \n 
URL:https://tomsriverucc.org/event/bible-study-every-wednesday-2026-01-07/
LOCATION:NJ
CATEGORIES:UCC Event
END:VEVENT
BEGIN:VEVENT
DTSTART;TZID=America/New_York:20260107T110000
DTEND;TZID=America/New_York:20260107T120000
DTSTAMP:20260423T171435
CREATED:20201210T111311Z
LAST-MODIFIED:20201210T111311Z
UID:1504-1767783600-1767787200@tomsriverucc.org
SUMMARY:Book Study
DESCRIPTION:Our weekly book study group takes place every Wednesday at 11:00 am via Zoom! If interested\, please email ucctrofc@comcast.net for Zoom information. \n 
URL:https://tomsriverucc.org/event/bible-study-every-wednesday-2025-06-25-2026-01-07/
LOCATION:NJ
CATEGORIES:UCC Event
END:VEVENT
BEGIN:VEVENT
DTSTART;TZID=America/New_York:20260104T103000
DTEND;TZID=America/New_York:20260104T120000
DTSTAMP:20260423T171435
CREATED:20201229T161416Z
LAST-MODIFIED:20201229T161416Z
UID:1502-1767522600-1767528000@tomsriverucc.org
SUMMARY:Sunday Worship
DESCRIPTION:We hold our Sunday service every Sunday at 10:30 am. We have service in-person and over Zoom. Masks are required to enter the church. If you are interested in attending\, please email ucctrofc@comcast.net for more information. \n 
URL:https://tomsriverucc.org/event/sunday-worship-via-zoom-2026-01-04/
LOCATION:UCC Toms River Church\, 1681 Ridgeway Rd\, 08757\, NJ\, 08757\, United States
CATEGORIES:UCC Event
END:VEVENT
BEGIN:VEVENT
DTSTART;TZID=America/New_York:20251231T110000
DTEND;TZID=America/New_York:20251231T120000
DTSTAMP:20260423T171435
CREATED:20201210T111311Z
LAST-MODIFIED:20201210T111311Z
UID:1500-1767178800-1767182400@tomsriverucc.org
SUMMARY:Book Study
DESCRIPTION:Our weekly book study group takes place every Wednesday at 11:00 am via Zoom! If interested\, please email ucctrofc@comcast.net for Zoom information. \n 
URL:https://tomsriverucc.org/event/bible-study-every-wednesday-2025-12-31/
LOCATION:NJ
CATEGORIES:UCC Event
END:VEVENT
BEGIN:VEVENT
DTSTART;TZID=America/New_York:20251231T110000
DTEND;TZID=America/New_York:20251231T120000
DTSTAMP:20260423T171435
CREATED:20201210T111311Z
LAST-MODIFIED:20201210T111311Z
UID:1501-1767178800-1767182400@tomsriverucc.org
SUMMARY:Book Study
DESCRIPTION:Our weekly book study group takes place every Wednesday at 11:00 am via Zoom! If interested\, please email ucctrofc@comcast.net for Zoom information. \n 
URL:https://tomsriverucc.org/event/bible-study-every-wednesday-2025-06-25-2025-12-31/
LOCATION:NJ
CATEGORIES:UCC Event
END:VEVENT
BEGIN:VEVENT
DTSTART;TZID=America/New_York:20251228T103000
DTEND;TZID=America/New_York:20251228T120000
DTSTAMP:20260423T171435
CREATED:20201229T161416Z
LAST-MODIFIED:20201229T161416Z
UID:1499-1766917800-1766923200@tomsriverucc.org
SUMMARY:Sunday Worship
DESCRIPTION:We hold our Sunday service every Sunday at 10:30 am. We have service in-person and over Zoom. Masks are required to enter the church. If you are interested in attending\, please email ucctrofc@comcast.net for more information. \n 
URL:https://tomsriverucc.org/event/sunday-worship-via-zoom-2025-12-28/
LOCATION:UCC Toms River Church\, 1681 Ridgeway Rd\, 08757\, NJ\, 08757\, United States
CATEGORIES:UCC Event
END:VEVENT
BEGIN:VEVENT
DTSTART;TZID=America/New_York:20251224T170000
DTEND;TZID=America/New_York:20251224T183000
DTSTAMP:20260423T171435
CREATED:20251216T164235Z
LAST-MODIFIED:20251216T164235Z
UID:1791-1766595600-1766601000@tomsriverucc.org
SUMMARY:Christmas Eve 2025
DESCRIPTION:Our Christmas Eve Service will be a 5:00 PM. All are welcome!
URL:https://tomsriverucc.org/event/christmas-eve-2025/
LOCATION:NJ
CATEGORIES:UCC Event
END:VEVENT
BEGIN:VEVENT
DTSTART;TZID=America/New_York:20251224T110000
DTEND;TZID=America/New_York:20251224T120000
DTSTAMP:20260423T171435
CREATED:20201210T111311Z
LAST-MODIFIED:20201210T111311Z
UID:1498-1766574000-1766577600@tomsriverucc.org
SUMMARY:Book Study
DESCRIPTION:Our weekly book study group takes place every Wednesday at 11:00 am via Zoom! If interested\, please email ucctrofc@comcast.net for Zoom information. \n 
URL:https://tomsriverucc.org/event/bible-study-every-wednesday-2025-06-25-2025-12-24/
LOCATION:NJ
CATEGORIES:UCC Event
END:VEVENT
BEGIN:VEVENT
DTSTART;TZID=America/New_York:20251224T110000
DTEND;TZID=America/New_York:20251224T120000
DTSTAMP:20260423T171435
CREATED:20201210T111311Z
LAST-MODIFIED:20201210T111311Z
UID:1497-1766574000-1766577600@tomsriverucc.org
SUMMARY:Book Study
DESCRIPTION:Our weekly book study group takes place every Wednesday at 11:00 am via Zoom! If interested\, please email ucctrofc@comcast.net for Zoom information. \n 
URL:https://tomsriverucc.org/event/bible-study-every-wednesday-2025-12-24/
LOCATION:NJ
CATEGORIES:UCC Event
END:VEVENT
BEGIN:VEVENT
DTSTART;TZID=America/New_York:20251221T103000
DTEND;TZID=America/New_York:20251221T120000
DTSTAMP:20260423T171435
CREATED:20201229T161416Z
LAST-MODIFIED:20201229T161416Z
UID:1496-1766313000-1766318400@tomsriverucc.org
SUMMARY:Sunday Worship
DESCRIPTION:We hold our Sunday service every Sunday at 10:30 am. We have service in-person and over Zoom. Masks are required to enter the church. If you are interested in attending\, please email ucctrofc@comcast.net for more information. \n 
URL:https://tomsriverucc.org/event/sunday-worship-via-zoom-2025-12-21/
LOCATION:UCC Toms River Church\, 1681 Ridgeway Rd\, 08757\, NJ\, 08757\, United States
CATEGORIES:UCC Event
END:VEVENT
BEGIN:VEVENT
DTSTART;TZID=America/New_York:20251217T110000
DTEND;TZID=America/New_York:20251217T120000
DTSTAMP:20260423T171435
CREATED:20201210T111311Z
LAST-MODIFIED:20201210T111311Z
UID:1494-1765969200-1765972800@tomsriverucc.org
SUMMARY:Book Study
DESCRIPTION:Our weekly book study group takes place every Wednesday at 11:00 am via Zoom! If interested\, please email ucctrofc@comcast.net for Zoom information. \n 
URL:https://tomsriverucc.org/event/bible-study-every-wednesday-2025-06-25-2025-12-17/
LOCATION:NJ
CATEGORIES:UCC Event
END:VEVENT
BEGIN:VEVENT
DTSTART;TZID=America/New_York:20251217T110000
DTEND;TZID=America/New_York:20251217T120000
DTSTAMP:20260423T171435
CREATED:20201210T111311Z
LAST-MODIFIED:20201210T111311Z
UID:1493-1765969200-1765972800@tomsriverucc.org
SUMMARY:Book Study
DESCRIPTION:Our weekly book study group takes place every Wednesday at 11:00 am via Zoom! If interested\, please email ucctrofc@comcast.net for Zoom information. \n 
URL:https://tomsriverucc.org/event/bible-study-every-wednesday-2025-12-17/
LOCATION:NJ
CATEGORIES:UCC Event
END:VEVENT
BEGIN:VEVENT
DTSTART;TZID=America/New_York:20251214T103000
DTEND;TZID=America/New_York:20251214T120000
DTSTAMP:20260423T171435
CREATED:20201229T161416Z
LAST-MODIFIED:20201229T161416Z
UID:1492-1765708200-1765713600@tomsriverucc.org
SUMMARY:Sunday Worship
DESCRIPTION:We hold our Sunday service every Sunday at 10:30 am. We have service in-person and over Zoom. Masks are required to enter the church. If you are interested in attending\, please email ucctrofc@comcast.net for more information. \n 
URL:https://tomsriverucc.org/event/sunday-worship-via-zoom-2025-12-14/
LOCATION:UCC Toms River Church\, 1681 Ridgeway Rd\, 08757\, NJ\, 08757\, United States
CATEGORIES:UCC Event
END:VEVENT
BEGIN:VEVENT
DTSTART;TZID=America/New_York:20251210T110000
DTEND;TZID=America/New_York:20251210T120000
DTSTAMP:20260423T171435
CREATED:20201210T111311Z
LAST-MODIFIED:20201210T111311Z
UID:1491-1765364400-1765368000@tomsriverucc.org
SUMMARY:Book Study
DESCRIPTION:Our weekly book study group takes place every Wednesday at 11:00 am via Zoom! If interested\, please email ucctrofc@comcast.net for Zoom information. \n 
URL:https://tomsriverucc.org/event/bible-study-every-wednesday-2025-06-25-2025-12-10/
LOCATION:NJ
CATEGORIES:UCC Event
END:VEVENT
BEGIN:VEVENT
DTSTART;TZID=America/New_York:20251210T110000
DTEND;TZID=America/New_York:20251210T120000
DTSTAMP:20260423T171435
CREATED:20201210T111311Z
LAST-MODIFIED:20201210T111311Z
UID:1490-1765364400-1765368000@tomsriverucc.org
SUMMARY:Book Study
DESCRIPTION:Our weekly book study group takes place every Wednesday at 11:00 am via Zoom! If interested\, please email ucctrofc@comcast.net for Zoom information. \n 
URL:https://tomsriverucc.org/event/bible-study-every-wednesday-2025-12-10/
LOCATION:NJ
CATEGORIES:UCC Event
END:VEVENT
BEGIN:VEVENT
DTSTART;TZID=America/New_York:20251207T103000
DTEND;TZID=America/New_York:20251207T120000
DTSTAMP:20260423T171435
CREATED:20201229T161416Z
LAST-MODIFIED:20201229T161416Z
UID:1489-1765103400-1765108800@tomsriverucc.org
SUMMARY:Sunday Worship
DESCRIPTION:We hold our Sunday service every Sunday at 10:30 am. We have service in-person and over Zoom. Masks are required to enter the church. If you are interested in attending\, please email ucctrofc@comcast.net for more information. \n 
URL:https://tomsriverucc.org/event/sunday-worship-via-zoom-2025-12-07/
LOCATION:UCC Toms River Church\, 1681 Ridgeway Rd\, 08757\, NJ\, 08757\, United States
CATEGORIES:UCC Event
END:VEVENT
BEGIN:VEVENT
DTSTART;TZID=America/New_York:20251203T110000
DTEND;TZID=America/New_York:20251203T120000
DTSTAMP:20260423T171435
CREATED:20201210T111311Z
LAST-MODIFIED:20201210T111311Z
UID:1454-1764759600-1764763200@tomsriverucc.org
SUMMARY:Book Study
DESCRIPTION:Our weekly book study group takes place every Wednesday at 11:00 am via Zoom! If interested\, please email ucctrofc@comcast.net for Zoom information. \n 
URL:https://tomsriverucc.org/event/bible-study-every-wednesday-2025-12-03/
LOCATION:NJ
CATEGORIES:UCC Event
END:VEVENT
BEGIN:VEVENT
DTSTART;TZID=America/New_York:20251203T110000
DTEND;TZID=America/New_York:20251203T120000
DTSTAMP:20260423T171435
CREATED:20201210T111311Z
LAST-MODIFIED:20201210T111311Z
UID:1455-1764759600-1764763200@tomsriverucc.org
SUMMARY:Book Study
DESCRIPTION:Our weekly book study group takes place every Wednesday at 11:00 am via Zoom! If interested\, please email ucctrofc@comcast.net for Zoom information. \n 
URL:https://tomsriverucc.org/event/bible-study-every-wednesday-2025-06-25-2025-12-03/
LOCATION:NJ
CATEGORIES:UCC Event
END:VEVENT
BEGIN:VEVENT
DTSTART;TZID=America/New_York:20251130T103000
DTEND;TZID=America/New_York:20251130T120000
DTSTAMP:20260423T171435
CREATED:20201229T161416Z
LAST-MODIFIED:20201229T161416Z
UID:1453-1764498600-1764504000@tomsriverucc.org
SUMMARY:Sunday Worship
DESCRIPTION:We hold our Sunday service every Sunday at 10:30 am. We have service in-person and over Zoom. Masks are required to enter the church. If you are interested in attending\, please email ucctrofc@comcast.net for more information. \n 
URL:https://tomsriverucc.org/event/sunday-worship-via-zoom-2025-11-30/
LOCATION:UCC Toms River Church\, 1681 Ridgeway Rd\, 08757\, NJ\, 08757\, United States
CATEGORIES:UCC Event
END:VEVENT
BEGIN:VEVENT
DTSTART;TZID=America/New_York:20251126T110000
DTEND;TZID=America/New_York:20251126T120000
DTSTAMP:20260423T171435
CREATED:20201210T111311Z
LAST-MODIFIED:20201210T111311Z
UID:1451-1764154800-1764158400@tomsriverucc.org
SUMMARY:Book Study
DESCRIPTION:Our weekly book study group takes place every Wednesday at 11:00 am via Zoom! If interested\, please email ucctrofc@comcast.net for Zoom information. \n 
URL:https://tomsriverucc.org/event/bible-study-every-wednesday-2025-11-26/
LOCATION:NJ
CATEGORIES:UCC Event
END:VEVENT
BEGIN:VEVENT
DTSTART;TZID=America/New_York:20251126T110000
DTEND;TZID=America/New_York:20251126T120000
DTSTAMP:20260423T171435
CREATED:20201210T111311Z
LAST-MODIFIED:20201210T111311Z
UID:1452-1764154800-1764158400@tomsriverucc.org
SUMMARY:Book Study
DESCRIPTION:Our weekly book study group takes place every Wednesday at 11:00 am via Zoom! If interested\, please email ucctrofc@comcast.net for Zoom information. \n 
URL:https://tomsriverucc.org/event/bible-study-every-wednesday-2025-06-25-2025-11-26/
LOCATION:NJ
CATEGORIES:UCC Event
END:VEVENT
BEGIN:VEVENT
DTSTART;TZID=America/New_York:20251123T103000
DTEND;TZID=America/New_York:20251123T120000
DTSTAMP:20260423T171435
CREATED:20201229T161416Z
LAST-MODIFIED:20201229T161416Z
UID:1450-1763893800-1763899200@tomsriverucc.org
SUMMARY:Sunday Worship
DESCRIPTION:We hold our Sunday service every Sunday at 10:30 am. We have service in-person and over Zoom. Masks are required to enter the church. If you are interested in attending\, please email ucctrofc@comcast.net for more information. \n 
URL:https://tomsriverucc.org/event/sunday-worship-via-zoom-2025-11-23/
LOCATION:UCC Toms River Church\, 1681 Ridgeway Rd\, 08757\, NJ\, 08757\, United States
CATEGORIES:UCC Event
END:VEVENT
BEGIN:VEVENT
DTSTART;TZID=America/New_York:20251119T110000
DTEND;TZID=America/New_York:20251119T120000
DTSTAMP:20260423T171435
CREATED:20201210T111311Z
LAST-MODIFIED:20201210T111311Z
UID:1449-1763550000-1763553600@tomsriverucc.org
SUMMARY:Book Study
DESCRIPTION:Our weekly book study group takes place every Wednesday at 11:00 am via Zoom! If interested\, please email ucctrofc@comcast.net for Zoom information. \n 
URL:https://tomsriverucc.org/event/bible-study-every-wednesday-2025-06-25-2025-11-19/
LOCATION:NJ
CATEGORIES:UCC Event
END:VEVENT
BEGIN:VEVENT
DTSTART;TZID=America/New_York:20251119T110000
DTEND;TZID=America/New_York:20251119T120000
DTSTAMP:20260423T171435
CREATED:20201210T111311Z
LAST-MODIFIED:20201210T111311Z
UID:1448-1763550000-1763553600@tomsriverucc.org
SUMMARY:Book Study
DESCRIPTION:Our weekly book study group takes place every Wednesday at 11:00 am via Zoom! If interested\, please email ucctrofc@comcast.net for Zoom information. \n 
URL:https://tomsriverucc.org/event/bible-study-every-wednesday-2025-11-19/
LOCATION:NJ
CATEGORIES:UCC Event
END:VEVENT
END:VCALENDAR